BEGIN:VCALENDAR
VERSION:2.0
PRODID:-//Maik Lärz Akademie Erfurt - ECPv6.15.20//NONSGML v1.0//EN
CALSCALE:GREGORIAN
METHOD:PUBLISH
X-WR-CALNAME:Maik Lärz Akademie Erfurt
X-ORIGINAL-URL:https://maik-laerz.de
X-WR-CALDESC:Veranstaltungen für Maik Lärz Akademie Erfurt
REFRESH-INTERVAL;VALUE=DURATION:PT1H
X-Robots-Tag:noindex
X-PUBLISHED-TTL:PT1H
BEGIN:VTIMEZONE
TZID:Europe/Berlin
BEGIN:DAYLIGHT
TZOFFSETFROM:+0100
TZOFFSETTO:+0200
TZNAME:CEST
DTSTART:20250330T010000
END:DAYLIGHT
BEGIN:STANDARD
TZOFFSETFROM:+0200
TZOFFSETTO:+0100
TZNAME:CET
DTSTART:20251026T010000
END:STANDARD
BEGIN:DAYLIGHT
TZOFFSETFROM:+0100
TZOFFSETTO:+0200
TZNAME:CEST
DTSTART:20260329T010000
END:DAYLIGHT
BEGIN:STANDARD
TZOFFSETFROM:+0200
TZOFFSETTO:+0100
TZNAME:CET
DTSTART:20261025T010000
END:STANDARD
BEGIN:DAYLIGHT
TZOFFSETFROM:+0100
TZOFFSETTO:+0200
TZNAME:CEST
DTSTART:20270328T010000
END:DAYLIGHT
BEGIN:STANDARD
TZOFFSETFROM:+0200
TZOFFSETTO:+0100
TZNAME:CET
DTSTART:20271031T010000
END:STANDARD
END:VTIMEZONE
BEGIN:VEVENT
DTSTART;TZID=Europe/Berlin:20261106T100000
DTEND;TZID=Europe/Berlin:20261108T130000
DTSTAMP:20260423T182901
CREATED:20250220T230635Z
LAST-MODIFIED:20260319T084510Z
UID:7200-1793959200-1794142800@maik-laerz.de
SUMMARY:Gewaltfreie Kommunikation
DESCRIPTION:Gewaltfreie Kommunikation\n\n\n\n\n\nIntensivseminar Gewaltfreie Kommunikation mit Jürgen Engel\n\n\n\n\n\n\n\nGewaltfrei kommunizieren\n\n\n\n„Gewaltfrei“ zu kommunizieren heisst nicht vorsichtig oder gar weich gespült. Es heisst NICHT nicht mehr sagen zu können\, was Sache ist\, was ich will und nicht will und auch mit Kraft und Überzeugung dafür einstehen zu können\, was mir  wichtig ist\, und was ich gerade brauche! Ganz im Gegenteil! \n\n\n\nWas heisst es? \n\n\n\nEs heisst mit Klarheit UND mit Achtsamkeit im Kontakt zu sein. Wahr zu nehmen\, was MIR wichtig ist\, was ICH brauche\, UND was der oder die anderen brauchen\, und wie beides zusammen hängt. \n\n\n\nEs ermöglicht uns mit der tieferen Wahrheit in uns in Kontakt zu gehen\, dem was wirklich los ist\, jenseits von den Ideen\, die wir haben\, wie es umzusetzen ist\, den Schuldgefühlen oder dem Ärger\, den Vorwürfen und dem intellektuellen Ringen um das „Recht haben“. \n\n\n\nEs zählt nicht\, wer die besseren oder schlagenderen Argumente hat\, sondern die Verbindung zählt\, die Gleichwertigkeit\, das beidseitige Bemühen wirklich zu verstehen und zu sehen\, was bei mir und dem anderen los ist\, und darüber Kontakt und Ideen für Lösungen zu bekommen. \n\n\n\nEs ist ein völlig anderer Ansatz\, als das was uns bisher bekannt ist\, was die meisten das ganze Leben ausprobiert haben. Und es ermöglicht Kontakt\, Nähe\, Verständnis\, Freude und Erfüllung auf ganz besondere und berührende Art und Weise. \n\n\n\nSeminarzeitenFr 10:00 – 18:00 Uhr | Sa 09:00 – 18:00 Uhr | So 09:00 -13:00 Uhr \n\n\n\n\n\n\n\nSofern Du Rückfragen hast\, kontaktiere uns gern unter 0361 21697005. \n\n\n\n\n\n\n\n\n\n\n\n\nDatum und Zeit\n\n\n\n\n\n\n\n\n\n\n\n\n\nDetails\n\n\n\n\n\n\n\nPreis inklusive MwSt.: 577\,15 € \n\n\n\n \n\n\n\n\n\nLehrtrainer\n\n\n\n\n\n\n\nName: Jürgen EngelE-Mail: hallo@klarweit.deTel: 069-46 00 78 26 \n\n\n\n\n\njetzt anmelden!\n\n\n\n\n\n\nVeranstaltungsort\n\n\n\n\n\n\n\nMaik Lärz AkademieVollbrachtstraße 1799086 Erfurt \n\n\n\n\n\n\n\n\n\n\nNächste Veranstaltungen\n\n\n\n\n\n\n\n\n	\n		\n\n			\n			\n\n							\n					\n						Anstehende Veranstaltungen					\n				\n			\n			\n				\n											\n\n	\n	\n		\n			Apr.		\n		\n			22		\n	\n\n\n	\n		\n			\n\n				\n					\n		\n		22. April  16:00 – 25. April  13:00	\n	\n					\n	\n		NLC Practitioner Modul 4	\n\n				\n\n				\n			\n		\n	\n\n\n											\n\n	\n	\n		\n			Apr.		\n		\n			29		\n	\n\n\n	\n		\n			\n\n				\n					\n		\n		18:00 – 22:00	\n	\n					\n	\n		Aufstellungsabend	\n\n				\n\n				\n			\n		\n	\n\n\n											\n\n	\n	\n		\n			Mai		\n		\n			6		\n	\n\n\n	\n		\n			\n\n				\n					\n	\n	\n	\n\n\n\n	Hervorgehoben\n	\n		6. Mai  10:00 – 9. Mai  13:00	\n	\n					\n	\n		wingwave Coach	\n\n				\n\n				\n			\n		\n	\n\n\n											\n\n	\n	\n		\n			Mai		\n		\n			20		\n	\n\n\n	\n		\n			\n\n				\n					\n		\n		18:00 – 22:00	\n	\n					\n	\n		Aufstellungsabend	\n\n				\n\n				\n			\n		\n	\n\n\n											\n\n	\n	\n		\n			Mai		\n		\n			21		\n	\n\n\n	\n		\n			\n\n				\n					\n	\n	\n	\n\n\n\n	Hervorgehoben\n	\n		21. Mai  11:00 – 23. Mai  13:00	\n	\n					\n	\n		Hypnose Coach	\n\n				\n\n				\n			\n		\n	\n\n\n									\n\n				\n	\n		Kalender anzeigen
URL:https://maik-laerz.de/event/gewaltfreie-kommunikation/
CATEGORIES:Gewaltfreie Kommunikation,Workshops
ATTACH;FMTTYPE=image/jpeg:https://maik-laerz.de/wp-content/uploads/2022/06/photo-1506456331400-7088248a8db1.jpg
END:VEVENT
BEGIN:VEVENT
DTSTART;TZID=Europe/Berlin:20261125T110000
DTEND;TZID=Europe/Berlin:20261128T130000
DTSTAMP:20260423T182901
CREATED:20250224T220505Z
LAST-MODIFIED:20260113T200453Z
UID:7463-1795604400-1795870800@maik-laerz.de
SUMMARY:Systemischer Coach Berater Modul 2
DESCRIPTION:Systemischer Coach Modul 2\n\n\n\n\n\nÜbersicht Ausbildung zum Systemischen Coach/Berater\n\n\n\n\n\n\n\nSysteme und deren Dynamiken erkennen und lösen!\n\n\n\nDas 12-tägige Training (3 Blockwochenenden mit je 4 Tagen) in systemischen Coachings richtet sich nicht ausschließlich an Trainer\, Therapeuten\, Berater und Coaches\, sondern auch an die Menschen\, die ihr eigenes Familiensystem verstehen wollen. Voraussetzung hierfür ist entweder Vorerfahrungen mit systemischer Arbeit aufweisen zu können\, oder die nötige Lebenserfahrung und ein gezieltes Interesse für das Themengebiet mitzubringen. \n\n\n\nWährend der Ausbildung erhalten sie Kenntnisse über Gruppendynamiken\, Familien- und Organisationsaufstellungen\, imaginäre Systemaufstellung\, kinesiologischer Muskeltest und andere Tools. Besonderes Augenmerk legen wir hierbei auf die Erlernung zielgerichteter Schlüsselkompetenzen im ganzheitlichen Umgang mit Klienten\, wie bspw. VAGOK\, Rapport\, gewaltfreie Kommunikation\, neg. Glaubenssatzauflösung\, Ressourcenarbeit und Arbeit am Wertesystem. Lernen Sie mithilfe der systemischen Betrachtungsweise von Problemen und Situationen neue Lösungsansätze und Ressourcen zu generieren\, die für eine erfolgreiche Coaching-Tätigkeit unentbehrlich sind. \n\n\n\nEinsatzmöglichkeiten: Familienprobleme\, Konfliktlösung\, Zielfindung\, Mitarbeiterauswahl\, Auftragsklärung\, Finden von neuen Lösungen in Organisationen\, Herausfinden der eigentlichen Ursache: „Um was geht es wirklich?“\, Hintergrundmotive\, Vorwände\, Prävention\, Burnout usw. \n\n\n\nSeminarzeitenMi 11:00 – 18:00 Uhr | Do – Fr 09:00 – 18:00 Uhr | Sa 09:00 – 13:00 Uhr \n\n\n\nDie Ausbildung zum Systemischen Berater im Video \n\n\n\n\n      Sie sehen gerade einen Platzhalterinhalt von YouTube. Um auf den eigentlichen Inhalt zuzugreifen\, klicken Sie auf die Schaltfläche unten. Bitte beachten Sie\, dass dabei Daten an Drittanbieter weitergegeben werden.  Mehr Informationen   Inhalt entsperren Erforderlichen Service akzeptieren und Inhalte entsperren   \n\n\n\n\nMehr Erfahren\n\n\n\n\n\n\n\nSofern Du Rückfragen hast\, kontaktiere uns gern unter 0361 21697005. \n\n\n\n\n\n\n\n\n\n\n\n\nDatum und Zeit\n\n\n\n\n\n\n\n\n\n\n\n\n\nDetails\n\n\n\n\n\n\n\nPreis: 3.451\,00 € \n\n\n\n(inklusive 19% MwSt. – Preis netto 2.900\,00 €) \n\n\n\n\n\nLehrtrainer\n\n\n\n\n\n\n\nName: Maik LärzE-Mail: info@maik-laerz.deMobil: 0172 7960974 \n\n\n\n\n\njetzt anmelden!\n\n\n\n\n\n\nVeranstaltungsort\n\n\n\n\n\n\n\nMaik Lärz AkademieVollbrachtstraße 1799086 Erfurt \n\n\n\n\n\n\n\n\n\n\nNächste Veranstaltungen\n\n\n\n\n\n\n\n\n	\n		\n\n			\n			\n\n							\n					\n						Anstehende Veranstaltungen					\n				\n			\n			\n				\n											\n\n	\n	\n		\n			Apr.		\n		\n			22		\n	\n\n\n	\n		\n			\n\n				\n					\n		\n		22. April  16:00 – 25. April  13:00	\n	\n					\n	\n		NLC Practitioner Modul 4	\n\n				\n\n				\n			\n		\n	\n\n\n											\n\n	\n	\n		\n			Apr.		\n		\n			29		\n	\n\n\n	\n		\n			\n\n				\n					\n		\n		18:00 – 22:00	\n	\n					\n	\n		Aufstellungsabend	\n\n				\n\n				\n			\n		\n	\n\n\n											\n\n	\n	\n		\n			Mai		\n		\n			6		\n	\n\n\n	\n		\n			\n\n				\n					\n	\n	\n	\n\n\n\n	Hervorgehoben\n	\n		6. Mai  10:00 – 9. Mai  13:00	\n	\n					\n	\n		wingwave Coach	\n\n				\n\n				\n			\n		\n	\n\n\n											\n\n	\n	\n		\n			Mai		\n		\n			20		\n	\n\n\n	\n		\n			\n\n				\n					\n		\n		18:00 – 22:00	\n	\n					\n	\n		Aufstellungsabend	\n\n				\n\n				\n			\n		\n	\n\n\n											\n\n	\n	\n		\n			Mai		\n		\n			21		\n	\n\n\n	\n		\n			\n\n				\n					\n	\n	\n	\n\n\n\n	Hervorgehoben\n	\n		21. Mai  11:00 – 23. Mai  13:00	\n	\n					\n	\n		Hypnose Coach	\n\n				\n\n				\n			\n		\n	\n\n\n									\n\n				\n	\n		Kalender anzeigen
URL:https://maik-laerz.de/event/systemischer-coach-berater-modul-2/
CATEGORIES:Ausbildung,Systemischer Berater
ATTACH;FMTTYPE=image/jpeg:https://maik-laerz.de/wp-content/uploads/2022/03/maik-laerz-akademieDSC_1061.jpg
END:VEVENT
BEGIN:VEVENT
DTSTART;TZID=Europe/Berlin:20261125T180000
DTEND;TZID=Europe/Berlin:20261125T220000
DTSTAMP:20260423T182901
CREATED:20251214T110057Z
LAST-MODIFIED:20251214T110138Z
UID:7961-1795629600-1795644000@maik-laerz.de
SUMMARY:Aufstellungsabend
DESCRIPTION:Aufstellungsabend\n\n\n\n\n\nÜbersicht Familien- und Systemaufstellung\n\n\n\n\n\n\n\n„Die reinste Form des Wahnsinns ist es\, alles beim Alten zu lassen und zu hoffen\, dass sich etwas ändert.“ (Albert Einstein) \n\n\n\nWir Menschen leben und agieren in Systemen\, sei es an der Arbeit\, in der Freizeit\, oder in unseren Familien. Die komplexen Vernetzungen und Gesetzmäßigkeiten darin lassen sich nur schwer im Alltag begreifen und so passiert es schnell\, dass wir ratlos sind und uns unseren Problemen gegenüber ausgeliefert fühlen. So wollen wir als „Maik Lärz Akademie“ durch unsere regelmäßige Aufstellungsarbeit (incl. persönlichen Erfahrungsaustausch) Orientierung und Schutzräume bieten\, durch die jeder Teilnehmer bei seiner Problembewältigung professionell angeleitet und unterstützt wird. Wir bedienen uns dabei der neuesten Coaching- und Therapiekonzepte die derzeit auf dem Ausbildungsmarkt zu finden sind\, welche ebenso bei uns in der Akademie gelehrt und angewandt werden. Dabei handelt es sich unter anderem um therapeutisch etablierte Methoden wie Wingwave\, emotionSync\, EMDR+ und natürlich das systemische Coaching\, bzw. die Aufstellungsarbeit. \n\n\n\nIhre Vorteile bei diesem Workshop: \n\n\n\n\nmax. Preisvorteil 25\,00 €\n\n\n\nSnacks und Getränke inklusive\n\n\n\nGrundkenntnisse in systemischen Arbeiten mit Familien und anderen Systemen\n\n\n\npersönliche Themen können aufgestellt und lösungsorientiert bearbeitet werden\n\n\n\nprofessionell ausgestattete Atmosphäre im großen Akademie-Saal\n\n\n\n\n\n\n\n\nSofern Du Rückfragen hast\, kontaktiere uns gern unter 0361 21697005. \n\n\n\n\n\n\n\n\n\n\n\n\nDatum und Zeit\n\n\n\n\n\n\n\n\n\n\n\n\n\nDetails\n\n\n\n\n\n\n\nPreis: 25\,00 € \n\n\n\n\n\nLehrtrainer\n\n\n\n\n\n\n\nName: Maik LärzE-Mail: info@maik-laerz.deMobil: 0172 7960974 \n\n\n\n\n\njetzt anmelden!\n\n\n\n\n\n\nVeranstaltungsort\n\n\n\n\n\n\n\nMaik Lärz AkademieVollbrachtstraße 1799086 Erfurt \n\n\n\n\n\n\n\n\n\n\nNächste Veranstaltungen\n\n\n\n\n\n\n\n\n	\n		\n\n			\n			\n\n							\n					\n						Anstehende Veranstaltungen					\n				\n			\n			\n				\n											\n\n	\n	\n		\n			Apr.		\n		\n			22		\n	\n\n\n	\n		\n			\n\n				\n					\n		\n		22. April  16:00 – 25. April  13:00	\n	\n					\n	\n		NLC Practitioner Modul 4	\n\n				\n\n				\n			\n		\n	\n\n\n											\n\n	\n	\n		\n			Apr.		\n		\n			29		\n	\n\n\n	\n		\n			\n\n				\n					\n		\n		18:00 – 22:00	\n	\n					\n	\n		Aufstellungsabend	\n\n				\n\n				\n			\n		\n	\n\n\n											\n\n	\n	\n		\n			Mai		\n		\n			6		\n	\n\n\n	\n		\n			\n\n				\n					\n	\n	\n	\n\n\n\n	Hervorgehoben\n	\n		6. Mai  10:00 – 9. Mai  13:00	\n	\n					\n	\n		wingwave Coach	\n\n				\n\n				\n			\n		\n	\n\n\n											\n\n	\n	\n		\n			Mai		\n		\n			20		\n	\n\n\n	\n		\n			\n\n				\n					\n		\n		18:00 – 22:00	\n	\n					\n	\n		Aufstellungsabend	\n\n				\n\n				\n			\n		\n	\n\n\n											\n\n	\n	\n		\n			Mai		\n		\n			21		\n	\n\n\n	\n		\n			\n\n				\n					\n	\n	\n	\n\n\n\n	Hervorgehoben\n	\n		21. Mai  11:00 – 23. Mai  13:00	\n	\n					\n	\n		Hypnose Coach	\n\n				\n\n				\n			\n		\n	\n\n\n									\n\n				\n	\n		Kalender anzeigen
URL:https://maik-laerz.de/event/7961/
ATTACH;FMTTYPE=image/jpeg:https://maik-laerz.de/wp-content/uploads/2025/01/maik-laerz-akademie.jpg
END:VEVENT
END:VCALENDAR