BEGIN:VCALENDAR
VERSION:2.0
PRODID:-//Maik Lärz Akademie Erfurt - ECPv6.15.20//NONSGML v1.0//EN
CALSCALE:GREGORIAN
METHOD:PUBLISH
X-ORIGINAL-URL:https://maik-laerz.de
X-WR-CALDESC:Veranstaltungen für Maik Lärz Akademie Erfurt
REFRESH-INTERVAL;VALUE=DURATION:PT1H
X-Robots-Tag:noindex
X-PUBLISHED-TTL:PT1H
BEGIN:VTIMEZONE
TZID:Europe/Berlin
BEGIN:DAYLIGHT
TZOFFSETFROM:+0100
TZOFFSETTO:+0200
TZNAME:CEST
DTSTART:20250330T010000
END:DAYLIGHT
BEGIN:STANDARD
TZOFFSETFROM:+0200
TZOFFSETTO:+0100
TZNAME:CET
DTSTART:20251026T010000
END:STANDARD
BEGIN:DAYLIGHT
TZOFFSETFROM:+0100
TZOFFSETTO:+0200
TZNAME:CEST
DTSTART:20260329T010000
END:DAYLIGHT
BEGIN:STANDARD
TZOFFSETFROM:+0200
TZOFFSETTO:+0100
TZNAME:CET
DTSTART:20261025T010000
END:STANDARD
BEGIN:DAYLIGHT
TZOFFSETFROM:+0100
TZOFFSETTO:+0200
TZNAME:CEST
DTSTART:20270328T010000
END:DAYLIGHT
BEGIN:STANDARD
TZOFFSETFROM:+0200
TZOFFSETTO:+0100
TZNAME:CET
DTSTART:20271031T010000
END:STANDARD
END:VTIMEZONE
BEGIN:VEVENT
DTSTART;TZID=Europe/Berlin:20260903T100000
DTEND;TZID=Europe/Berlin:20260905T170000
DTSTAMP:20260423T154403
CREATED:20250224T211939Z
LAST-MODIFIED:20260113T200738Z
UID:7428-1788429600-1788627600@maik-laerz.de
SUMMARY:Master Typo 3 Profiler
DESCRIPTION:Master Typo 3® Profiler (online)\n\n\n\n\n\nÜbersicht Ausbildung zum Master Typo 3® Profiler\n\n\n\n\n\n\n\nWerden Sie vom Low Performer zum High Performer\n\n\n\nMenschen können und dürfen oft nicht das tun\, was wirklich von ihnen verlangt wird. Dazu suchen sie sich meist noch Jobs\, in denen Anforderungen an sie gestellt werden\, die sie nicht erfüllen wollen.Wenn das Handeln und die innere Einstellung mit den Glaubenssätzen nicht Hand in Hand gehen\, kann innere Zerrissenheit entstehen. Und im schlimmsten Falle klopft in kürzester Zeit das „kleine Burnout“ an die Tür. Finden Sie bei sich und Ihren Kunden heraus\, welche Limitierungen Sie an erfolgreichem Handeln hindern! \n\n\n\nEinsatzmöglichkeiten: Beruf\, Familie\, Ziele\, Konflikte\, Kommunikation\,Personalauswahl\, Prävention\, etc. \n\n\n\nSeminarzeitenDo. 10:00 – 18:00 Uhr\, Fr. 09:00 – 18:00 Uhr\, Sa. 09:00 -14:00 Uhr \n\n\n\nWas  ist Master Typo 3 \n\n\n\n\n      Sie sehen gerade einen Platzhalterinhalt von YouTube. Um auf den eigentlichen Inhalt zuzugreifen\, klicken Sie auf die Schaltfläche unten. Bitte beachten Sie\, dass dabei Daten an Drittanbieter weitergegeben werden.  Mehr Informationen   Inhalt entsperren Erforderlichen Service akzeptieren und Inhalte entsperren   \n\n\n\n\n\n\n\n\nSofern Du Rückfragen hast\, kontaktiere uns gern unter 0361 21697005. \n\n\n\n\n\n\n\n\n\n\n\n\nDatum und Zeit\n\n\n\n\n\n\n\n\n\n\n\n\n\nDetails\n\n\n\n\n\n\n\nPreis: 1.428\,00 € \n\n\n\n(inklusive 19% MwSt. – Preis netto 1.200\,00 €) \n\n\n\n\n\nLehrtrainer\n\n\n\n\n\n\n\nName: Jörn PistoriusE-Mail: info@pistorius-kraftkammer.deMobil: 0561-50349723 \n\n\n\n\n\njetzt anmelden!\n\n\n\n\n\n\nVeranstaltungsort\n\n\n\n\n\n\n\nOnline \n\n\n\n\n\n\n\n\n\n\nNächste Veranstaltungen\n\n\n\n\n\n\n\n\n	\n		\n\n			\n			\n\n							\n					\n						Anstehende Veranstaltungen					\n				\n			\n			\n				\n											\n\n	\n	\n		\n			Apr.		\n		\n			22		\n	\n\n\n	\n		\n			\n\n				\n					\n		\n		22. April  16:00 – 25. April  13:00	\n	\n					\n	\n		NLC Practitioner Modul 4	\n\n				\n\n				\n			\n		\n	\n\n\n											\n\n	\n	\n		\n			Apr.		\n		\n			29		\n	\n\n\n	\n		\n			\n\n				\n					\n		\n		18:00 – 22:00	\n	\n					\n	\n		Aufstellungsabend	\n\n				\n\n				\n			\n		\n	\n\n\n											\n\n	\n	\n		\n			Mai		\n		\n			6		\n	\n\n\n	\n		\n			\n\n				\n					\n	\n	\n	\n\n\n\n	Hervorgehoben\n	\n		6. Mai  10:00 – 9. Mai  13:00	\n	\n					\n	\n		wingwave Coach	\n\n				\n\n				\n			\n		\n	\n\n\n											\n\n	\n	\n		\n			Mai		\n		\n			20		\n	\n\n\n	\n		\n			\n\n				\n					\n		\n		18:00 – 22:00	\n	\n					\n	\n		Aufstellungsabend	\n\n				\n\n				\n			\n		\n	\n\n\n											\n\n	\n	\n		\n			Mai		\n		\n			21		\n	\n\n\n	\n		\n			\n\n				\n					\n	\n	\n	\n\n\n\n	Hervorgehoben\n	\n		21. Mai  11:00 – 23. Mai  13:00	\n	\n					\n	\n		Hypnose Coach	\n\n				\n\n				\n			\n		\n	\n\n\n									\n\n				\n	\n		Kalender anzeigen
URL:https://maik-laerz.de/event/master-typo-3-profiler-2/
CATEGORIES:Ausbildung,Master Typo 3
ATTACH;FMTTYPE=image/jpeg:https://maik-laerz.de/wp-content/uploads/2019/09/master-typo-3-maik-laerz-akademie.jpg
END:VEVENT
BEGIN:VEVENT
DTSTART;TZID=Europe/Berlin:20260923T180000
DTEND;TZID=Europe/Berlin:20260923T220000
DTSTAMP:20260423T154403
CREATED:20250213T173142Z
LAST-MODIFIED:20251214T105723Z
UID:6869-1790186400-1790200800@maik-laerz.de
SUMMARY:Aufstellungsabend
DESCRIPTION:Aufstellungsabend\n\n\n\n\n\nÜbersicht Familien- und Systemaufstellung\n\n\n\n\n\n\n\n„Die reinste Form des Wahnsinns ist es\, alles beim Alten zu lassen und zu hoffen\, dass sich etwas ändert.“ (Albert Einstein) \n\n\n\nWir Menschen leben und agieren in Systemen\, sei es an der Arbeit\, in der Freizeit\, oder in unseren Familien. Die komplexen Vernetzungen und Gesetzmäßigkeiten darin lassen sich nur schwer im Alltag begreifen und so passiert es schnell\, dass wir ratlos sind und uns unseren Problemen gegenüber ausgeliefert fühlen. So wollen wir als „Maik Lärz Akademie“ durch unsere regelmäßige Aufstellungsarbeit (incl. persönlichen Erfahrungsaustausch) Orientierung und Schutzräume bieten\, durch die jeder Teilnehmer bei seiner Problembewältigung professionell angeleitet und unterstützt wird. Wir bedienen uns dabei der neuesten Coaching- und Therapiekonzepte die derzeit auf dem Ausbildungsmarkt zu finden sind\, welche ebenso bei uns in der Akademie gelehrt und angewandt werden. Dabei handelt es sich unter anderem um therapeutisch etablierte Methoden wie Wingwave\, emotionSync\, EMDR+ und natürlich das systemische Coaching\, bzw. die Aufstellungsarbeit. \n\n\n\nIhre Vorteile bei diesem Workshop: \n\n\n\n\nmax. Preisvorteil 25\,00 €\n\n\n\nSnacks und Getränke inklusive\n\n\n\nGrundkenntnisse in systemischen Arbeiten mit Familien und anderen Systemen\n\n\n\npersönliche Themen können aufgestellt und lösungsorientiert bearbeitet werden\n\n\n\nprofessionell ausgestattete Atmosphäre im großen Akademie-Saal\n\n\n\n\n\n\n\n\nSofern Du Rückfragen hast\, kontaktiere uns gern unter 0361 21697005. \n\n\n\n\n\n\n\n\n\n\n\n\nDatum und Zeit\n\n\n\n\n\n\n\n\n\n\n\n\n\nDetails\n\n\n\n\n\n\n\nPreis: 25\,00 € \n\n\n\n\n\nLehrtrainer\n\n\n\n\n\n\n\nName: Maik LärzE-Mail: info@maik-laerz.deMobil: 0172 7960974 \n\n\n\n\n\njetzt anmelden!\n\n\n\n\n\n\nVeranstaltungsort\n\n\n\n\n\n\n\nMaik Lärz AkademieVollbrachtstraße 1799086 Erfurt \n\n\n\n\n\n\n\n\n\n\nNächste Veranstaltungen\n\n\n\n\n\n\n\n\n	\n		\n\n			\n			\n\n							\n					\n						Anstehende Veranstaltungen					\n				\n			\n			\n				\n											\n\n	\n	\n		\n			Apr.		\n		\n			22		\n	\n\n\n	\n		\n			\n\n				\n					\n		\n		22. April  16:00 – 25. April  13:00	\n	\n					\n	\n		NLC Practitioner Modul 4	\n\n				\n\n				\n			\n		\n	\n\n\n											\n\n	\n	\n		\n			Apr.		\n		\n			29		\n	\n\n\n	\n		\n			\n\n				\n					\n		\n		18:00 – 22:00	\n	\n					\n	\n		Aufstellungsabend	\n\n				\n\n				\n			\n		\n	\n\n\n											\n\n	\n	\n		\n			Mai		\n		\n			6		\n	\n\n\n	\n		\n			\n\n				\n					\n	\n	\n	\n\n\n\n	Hervorgehoben\n	\n		6. Mai  10:00 – 9. Mai  13:00	\n	\n					\n	\n		wingwave Coach	\n\n				\n\n				\n			\n		\n	\n\n\n											\n\n	\n	\n		\n			Mai		\n		\n			20		\n	\n\n\n	\n		\n			\n\n				\n					\n		\n		18:00 – 22:00	\n	\n					\n	\n		Aufstellungsabend	\n\n				\n\n				\n			\n		\n	\n\n\n											\n\n	\n	\n		\n			Mai		\n		\n			21		\n	\n\n\n	\n		\n			\n\n				\n					\n	\n	\n	\n\n\n\n	Hervorgehoben\n	\n		21. Mai  11:00 – 23. Mai  13:00	\n	\n					\n	\n		Hypnose Coach	\n\n				\n\n				\n			\n		\n	\n\n\n									\n\n				\n	\n		Kalender anzeigen
URL:https://maik-laerz.de/event/familienaufstellung-9/
CATEGORIES:Aufstellungsabend,Workshops
ATTACH;FMTTYPE=image/jpeg:https://maik-laerz.de/wp-content/uploads/2025/01/maik-laerz-akademieDSC_3469.jpg
END:VEVENT
END:VCALENDAR