BEGIN:VCALENDAR
VERSION:2.0
PRODID:-//Maik Lärz Akademie Erfurt - ECPv6.15.20//NONSGML v1.0//EN
CALSCALE:GREGORIAN
METHOD:PUBLISH
X-WR-CALNAME:Maik Lärz Akademie Erfurt
X-ORIGINAL-URL:https://maik-laerz.de
X-WR-CALDESC:Veranstaltungen für Maik Lärz Akademie Erfurt
REFRESH-INTERVAL;VALUE=DURATION:PT1H
X-Robots-Tag:noindex
X-PUBLISHED-TTL:PT1H
BEGIN:VTIMEZONE
TZID:Europe/Berlin
BEGIN:DAYLIGHT
TZOFFSETFROM:+0100
TZOFFSETTO:+0200
TZNAME:CEST
DTSTART:20250330T010000
END:DAYLIGHT
BEGIN:STANDARD
TZOFFSETFROM:+0200
TZOFFSETTO:+0100
TZNAME:CET
DTSTART:20251026T010000
END:STANDARD
BEGIN:DAYLIGHT
TZOFFSETFROM:+0100
TZOFFSETTO:+0200
TZNAME:CEST
DTSTART:20260329T010000
END:DAYLIGHT
BEGIN:STANDARD
TZOFFSETFROM:+0200
TZOFFSETTO:+0100
TZNAME:CET
DTSTART:20261025T010000
END:STANDARD
BEGIN:DAYLIGHT
TZOFFSETFROM:+0100
TZOFFSETTO:+0200
TZNAME:CEST
DTSTART:20270328T010000
END:DAYLIGHT
BEGIN:STANDARD
TZOFFSETFROM:+0200
TZOFFSETTO:+0100
TZNAME:CET
DTSTART:20271031T010000
END:STANDARD
END:VTIMEZONE
BEGIN:VEVENT
DTSTART;TZID=Europe/Berlin:20260301T000000
DTEND;TZID=Europe/Berlin:20260311T235959
DTSTAMP:20260423T102258
CREATED:20250213T085115Z
LAST-MODIFIED:20250613T104156Z
UID:6787-1772323200-1773273599@maik-laerz.de
SUMMARY:Retreat Sri Lanka 2
DESCRIPTION:Retreat Sri Lanka 2\n\n\n\n\n\nÜbersicht Retreat Reise Sri Lanka\n\n\n\n\n\n\n\n10 TAGE IN EINE ANDERE WELT TAUCHEN \n\n\n\nMach Dich startklar für die Reise zu Deinem Sein – einer Begegnung mit Dir selbst! Tauche ein in das wunderschöne Sri Lanka im indischen Ozean. Lerne die Menschen und die Kultur kennen und lass Dich inspirieren von der wunderschönen Natur. Erlebe eine Reise mit Maik Lärz\, die Dich von der Meditation mit Einheimischen\, Yoga\, dem Genuss der landestypischen Küche bis hin zur weltschönsten Zugfahrt nach Ella fühen kann. 10 Tage Rückzug aus dem stressigen Alltag in eine andere Welt. Was bist Du ohne alles? Dieser Frage begegnest Du bei dieser atemberaubenden Auszeit. Maik wird Dir mit seiner 20-jährigen Erfahrung als Trainer und Mediator neue Perspektiven und Möglichkeiten für Dein Leben aufzeigen. Danach wirst Du Dein Sein noch einmal anders\, auf einem neuen Niveau definieren. \n\n\n\nDu darfst einen Rundum-Service erwarten. Rechtzeitig vor Beginn der Reise wird es einen Informationsabend geben\, bei dem Du alle wichtigen Details erfahren wirst\, die zur Vorbereitung der Retreat-Reise wichtig sind.  \n\n\n\n\n      Sie sehen gerade einen Platzhalterinhalt von YouTube. Um auf den eigentlichen Inhalt zuzugreifen\, klicken Sie auf die Schaltfläche unten. Bitte beachten Sie\, dass dabei Daten an Drittanbieter weitergegeben werden.  Mehr Informationen   Inhalt entsperren Erforderlichen Service akzeptieren und Inhalte entsperren   \n\n\n\n\nWeitere Details\n\n\n\n\n\n\n\nSofern Du Rückfragen hast\, kontaktiere uns gern unter 0361 21697005. \n\n\n\n\n\n\n\n\n\n\n\n\nDatum und Zeit\n\n\n\n\n\n\n\n\n\n\n\n\n\nDetails\n\n\n\n\n\n\n\njetzt Beraten lassen!\n\n\n\n\n\nLehrtrainer\n\n\n\n\n\n\n\nName: Maik LärzE-Mail: info@maik-laerz.deMobil: 0172 7960974 \n\n\n\n\n\n\n\n\n\n\nVeranstaltungsort\n\n\n\n\n\n\n\nAluthgama\, Sri Lanka \n\n\n\n\n\n\n\n\n\n\nNächste Veranstaltungen\n\n\n\n\n\n\n\n\n	\n		\n\n			\n			\n\n							\n					\n						Anstehende Veranstaltungen					\n				\n			\n			\n				\n											\n\n	\n	\n		\n			Apr.		\n		\n			22		\n	\n\n\n	\n		\n			\n\n				\n					\n		\n		22. April  16:00 – 25. April  13:00	\n	\n					\n	\n		NLC Practitioner Modul 4	\n\n				\n\n				\n			\n		\n	\n\n\n											\n\n	\n	\n		\n			Apr.		\n		\n			29		\n	\n\n\n	\n		\n			\n\n				\n					\n		\n		18:00 – 22:00	\n	\n					\n	\n		Aufstellungsabend	\n\n				\n\n				\n			\n		\n	\n\n\n											\n\n	\n	\n		\n			Mai		\n		\n			6		\n	\n\n\n	\n		\n			\n\n				\n					\n	\n	\n	\n\n\n\n	Hervorgehoben\n	\n		6. Mai  10:00 – 9. Mai  13:00	\n	\n					\n	\n		wingwave Coach	\n\n				\n\n				\n			\n		\n	\n\n\n											\n\n	\n	\n		\n			Mai		\n		\n			20		\n	\n\n\n	\n		\n			\n\n				\n					\n		\n		18:00 – 22:00	\n	\n					\n	\n		Aufstellungsabend	\n\n				\n\n				\n			\n		\n	\n\n\n											\n\n	\n	\n		\n			Mai		\n		\n			21		\n	\n\n\n	\n		\n			\n\n				\n					\n	\n	\n	\n\n\n\n	Hervorgehoben\n	\n		21. Mai  11:00 – 23. Mai  13:00	\n	\n					\n	\n		Hypnose Coach	\n\n				\n\n				\n			\n		\n	\n\n\n									\n\n				\n	\n		Kalender anzeigen
URL:https://maik-laerz.de/event/retreat-sri-lanka-2/
CATEGORIES:Sri Lanka
ATTACH;FMTTYPE=image/jpeg:https://maik-laerz.de/wp-content/uploads/2025/02/k-k-cXA4aqPV.jpeg
END:VEVENT
BEGIN:VEVENT
DTSTART;TZID=Europe/Berlin:20260312T100000
DTEND;TZID=Europe/Berlin:20260314T170000
DTSTAMP:20260423T102258
CREATED:20250220T231424Z
LAST-MODIFIED:20260113T201705Z
UID:7204-1773309600-1773507600@maik-laerz.de
SUMMARY:Master Typo 3® Profiler
DESCRIPTION:Master Typo 3® Profiler\n\n\n\n\n\nÜbersicht Ausbildung zum Master Typo 3® Profiler\n\n\n\n\n\n\n\nWerden Sie vom Low Performer zum High Performer\n\n\n\nMenschen können und dürfen oft nicht das tun\, was wirklich von ihnen verlangt wird. Dazu suchen sie sich meist noch Jobs\, in denen Anforderungen an sie gestellt werden\, die sie nicht erfüllen wollen.Wenn das Handeln und die innere Einstellung mit den Glaubenssätzen nicht Hand in Hand gehen\, kann innere Zerrissenheit entstehen. Und im schlimmsten Falle klopft in kürzester Zeit das „kleine Burnout“ an die Tür. Finden Sie bei sich und Ihren Kunden heraus\, welche Limitierungen Sie an erfolgreichem Handeln hindern! \n\n\n\nEinsatzmöglichkeiten: Beruf\, Familie\, Ziele\, Konflikte\, Kommunikation\,Personalauswahl\, Prävention\, etc. \n\n\n\nSeminarzeitenDo. 10:00 – 18:00 Uhr\, Fr. 09:00 – 18:00 Uhr\, Sa. 09:00 -14:00 Uhr \n\n\n\nWas  ist Master Typo 3 \n\n\n\n\n      Sie sehen gerade einen Platzhalterinhalt von YouTube. Um auf den eigentlichen Inhalt zuzugreifen\, klicken Sie auf die Schaltfläche unten. Bitte beachten Sie\, dass dabei Daten an Drittanbieter weitergegeben werden.  Mehr Informationen   Inhalt entsperren Erforderlichen Service akzeptieren und Inhalte entsperren   \n\n\n\n\n\n\n\n\nSofern Du Rückfragen hast\, kontaktiere uns gern unter 0361 21697005. \n\n\n\n\n\n\n\n\n\n\n\n\nDatum und Zeit\n\n\n\n\n\n\n\n\n\n\n\n\n\nDetails\n\n\n\n\n\n\n\nPreis: 1.428\,00 € \n\n\n\n(inklusive 19% MwSt. – Preis netto 1.200\,00 €) \n\n\n\n\n\nLehrtrainer\n\n\n\n\n\n\n\nName: Jörn PistoriusE-Mail: info@pistorius-kraftkammer.deMobil: 0561-50349723 \n\n\n\n\n\njetzt anmelden!\n\n\n\n\n\n\nVeranstaltungsort\n\n\n\n\n\n\n\nMaik Lärz AkademieVollbrachtstraße 1799086 Erfurt \n\n\n\n\n\n\n\n\n\n\nNächste Veranstaltungen\n\n\n\n\n\n\n\n\n	\n		\n\n			\n			\n\n							\n					\n						Anstehende Veranstaltungen					\n				\n			\n			\n				\n											\n\n	\n	\n		\n			Apr.		\n		\n			22		\n	\n\n\n	\n		\n			\n\n				\n					\n		\n		22. April  16:00 – 25. April  13:00	\n	\n					\n	\n		NLC Practitioner Modul 4	\n\n				\n\n				\n			\n		\n	\n\n\n											\n\n	\n	\n		\n			Apr.		\n		\n			29		\n	\n\n\n	\n		\n			\n\n				\n					\n		\n		18:00 – 22:00	\n	\n					\n	\n		Aufstellungsabend	\n\n				\n\n				\n			\n		\n	\n\n\n											\n\n	\n	\n		\n			Mai		\n		\n			6		\n	\n\n\n	\n		\n			\n\n				\n					\n	\n	\n	\n\n\n\n	Hervorgehoben\n	\n		6. Mai  10:00 – 9. Mai  13:00	\n	\n					\n	\n		wingwave Coach	\n\n				\n\n				\n			\n		\n	\n\n\n											\n\n	\n	\n		\n			Mai		\n		\n			20		\n	\n\n\n	\n		\n			\n\n				\n					\n		\n		18:00 – 22:00	\n	\n					\n	\n		Aufstellungsabend	\n\n				\n\n				\n			\n		\n	\n\n\n											\n\n	\n	\n		\n			Mai		\n		\n			21		\n	\n\n\n	\n		\n			\n\n				\n					\n	\n	\n	\n\n\n\n	Hervorgehoben\n	\n		21. Mai  11:00 – 23. Mai  13:00	\n	\n					\n	\n		Hypnose Coach	\n\n				\n\n				\n			\n		\n	\n\n\n									\n\n				\n	\n		Kalender anzeigen
URL:https://maik-laerz.de/event/master-typo-3-profiler/
CATEGORIES:Ausbildung,Master Typo 3
ATTACH;FMTTYPE=image/jpeg:https://maik-laerz.de/wp-content/uploads/2019/09/master-typo-3-maik-laerz-akademie.jpg
END:VEVENT
BEGIN:VEVENT
DTSTART;TZID=Europe/Berlin:20260325T160000
DTEND;TZID=Europe/Berlin:20260328T130000
DTSTAMP:20260423T102258
CREATED:20250224T210120Z
LAST-MODIFIED:20260114T132703Z
UID:7414-1774454400-1774702800@maik-laerz.de
SUMMARY:NLC Practitioner Modul 3
DESCRIPTION:NLC®-Practitioner Modul 3\n\n\n\n\n\nÜbersicht Modul 3\n\n\n\n\n\n\n\nNLC 3: TRANCE I UMGANG MIT SYSTEMENHypnose\, das Milton-Modell hypnotischer Kommunikation\, Tranceinduktion\, Trancevertiefung\, Trance-Six-Step\, Enthypnotisierung\, Selbsthypnsoe\, Integration wingwave®: Trance-Vertiefung mit wingwave® \n\n\n\nInteraktionsmuster\, kalibierte Schleifen\, Veränderungs- und Konfliktlösende Techniken für Paare\, Familien und Teams\, Integration wingwave®: Die Anwendung von wingwave® bei Paaren \n\n\n\nSeminarzeitenMi. 16:00 – 20:00 Uhr | Do. – Fr. 09:00 – 18:00 Uhr | Sa 09:00 – 13:00 Uhr \n\n\n\nDie 16-tägige Ausbildung zum NLC®-Practitioner bzw. Coach für Kommunikation und Beratung richtet sich an alle Einsteiger und Interessierte im Bereich Kommunikation und Persönlichkeitsentwicklung. Dabei lernst Du in vier Blöcken (jeweils Mittwoch bis Samstag) mit Hilfe wichtiger Grundelemente und spezieller Schlüsselkompetenzen wertschätzend und nachhaltig zu kommunizieren. In kleinen Übungsgruppen lernst Du intensiv Deinen zwischenmenschlichen Umgang selbstbewusst zu gestalten und ganz nebenbei noch Deinem Umfeld hilfreich sein zu können. Mache mit uns den ersten Schritt in Richtung selbstbestimmte Kommunikation! \n\n\n\nDie Ausbildung zum NLC Practitioner im Video \n\n\n\n\n      Sie sehen gerade einen Platzhalterinhalt von YouTube. Um auf den eigentlichen Inhalt zuzugreifen\, klicken Sie auf die Schaltfläche unten. Bitte beachten Sie\, dass dabei Daten an Drittanbieter weitergegeben werden.  Mehr Informationen   Inhalt entsperren Erforderlichen Service akzeptieren und Inhalte entsperren   \n\n\n\n\n\n\n\n\nSofern Du Rückfragen hast\, kontaktiere uns gern unter 0361 21697005. \n\n\n\n\n\n\n\n\n\n\n\n\nDatum und Zeit\n\n\n\n\n\n\n\n\n\n\n\n\n\nDetails\n\n\n\n\n\n\n\nPreis: 1970\,00 € \n\n\n\n(Da es sich bei der Maik Lärz Akademie um ein anerkanntes Bildungsunternehmen handelt\, entfällt hierbei die MwSt.) \n\n\n\n\n\nLehrtrainer\n\n\n\n\n\n\n\nName: Maik LärzE-Mail: info@maik-laerz.deMobil: 0172 7960974 \n\n\n\n\n\njetzt anmelden!\n\n\n\n\n\n\nVeranstaltungsort\n\n\n\n\n\n\n\nMaik Lärz AkademieVollbrachtstraße 1799086 Erfurt \n\n\n\n\n\n\n\n\n\n\nNächste Veranstaltungen\n\n\n\n\n\n\n\n\n	\n		\n\n			\n			\n\n							\n					\n						Anstehende Veranstaltungen					\n				\n			\n			\n				\n											\n\n	\n	\n		\n			Apr.		\n		\n			22		\n	\n\n\n	\n		\n			\n\n				\n					\n		\n		22. April  16:00 – 25. April  13:00	\n	\n					\n	\n		NLC Practitioner Modul 4	\n\n				\n\n				\n			\n		\n	\n\n\n											\n\n	\n	\n		\n			Apr.		\n		\n			29		\n	\n\n\n	\n		\n			\n\n				\n					\n		\n		18:00 – 22:00	\n	\n					\n	\n		Aufstellungsabend	\n\n				\n\n				\n			\n		\n	\n\n\n											\n\n	\n	\n		\n			Mai		\n		\n			6		\n	\n\n\n	\n		\n			\n\n				\n					\n	\n	\n	\n\n\n\n	Hervorgehoben\n	\n		6. Mai  10:00 – 9. Mai  13:00	\n	\n					\n	\n		wingwave Coach	\n\n				\n\n				\n			\n		\n	\n\n\n											\n\n	\n	\n		\n			Mai		\n		\n			20		\n	\n\n\n	\n		\n			\n\n				\n					\n		\n		18:00 – 22:00	\n	\n					\n	\n		Aufstellungsabend	\n\n				\n\n				\n			\n		\n	\n\n\n											\n\n	\n	\n		\n			Mai		\n		\n			21		\n	\n\n\n	\n		\n			\n\n				\n					\n	\n	\n	\n\n\n\n	Hervorgehoben\n	\n		21. Mai  11:00 – 23. Mai  13:00	\n	\n					\n	\n		Hypnose Coach	\n\n				\n\n				\n			\n		\n	\n\n\n									\n\n				\n	\n		Kalender anzeigen
URL:https://maik-laerz.de/event/nlc-practitioner-modul-3/
CATEGORIES:Ausbildung,NLC Practitioner
ATTACH;FMTTYPE=image/jpeg:https://maik-laerz.de/wp-content/uploads/2022/09/photo-1474314881477-04c4aac40a0e.jpg
END:VEVENT
END:VCALENDAR