BEGIN:VCALENDAR
VERSION:2.0
PRODID:-//Maik Lärz Akademie Erfurt - ECPv6.15.20//NONSGML v1.0//EN
CALSCALE:GREGORIAN
METHOD:PUBLISH
X-ORIGINAL-URL:https://maik-laerz.de
X-WR-CALDESC:Veranstaltungen für Maik Lärz Akademie Erfurt
REFRESH-INTERVAL;VALUE=DURATION:PT1H
X-Robots-Tag:noindex
X-PUBLISHED-TTL:PT1H
BEGIN:VTIMEZONE
TZID:Europe/Berlin
BEGIN:DAYLIGHT
TZOFFSETFROM:+0100
TZOFFSETTO:+0200
TZNAME:CEST
DTSTART:20250330T010000
END:DAYLIGHT
BEGIN:STANDARD
TZOFFSETFROM:+0200
TZOFFSETTO:+0100
TZNAME:CET
DTSTART:20251026T010000
END:STANDARD
BEGIN:DAYLIGHT
TZOFFSETFROM:+0100
TZOFFSETTO:+0200
TZNAME:CEST
DTSTART:20260329T010000
END:DAYLIGHT
BEGIN:STANDARD
TZOFFSETFROM:+0200
TZOFFSETTO:+0100
TZNAME:CET
DTSTART:20261025T010000
END:STANDARD
BEGIN:DAYLIGHT
TZOFFSETFROM:+0100
TZOFFSETTO:+0200
TZNAME:CEST
DTSTART:20270328T010000
END:DAYLIGHT
BEGIN:STANDARD
TZOFFSETFROM:+0200
TZOFFSETTO:+0100
TZNAME:CET
DTSTART:20271031T010000
END:STANDARD
END:VTIMEZONE
BEGIN:VEVENT
DTSTART;TZID=Europe/Berlin:20260104T000000
DTEND;TZID=Europe/Berlin:20260114T235959
DTSTAMP:20260423T130255
CREATED:20250211T221941Z
LAST-MODIFIED:20250613T104027Z
UID:6723-1767484800-1768435199@maik-laerz.de
SUMMARY:Retreat Sri Lanka 1
DESCRIPTION:Retreat Sri Lanka 1\n\n\n\n\n\nÜbersicht Retreat Reise Sri Lanka\n\n\n\n\n\n\n\n10 TAGE IN EINE ANDERE WELT TAUCHEN \n\n\n\nMach Dich startklar für die Reise zu Deinem Sein – einer Begegnung mit Dir selbst! Tauche ein in das wunderschöne Sri Lanka im indischen Ozean. Lerne die Menschen und die Kultur kennen und lass Dich inspirieren von der wunderschönen Natur. Erlebe eine Reise mit Maik Lärz\, die Dich von der Meditation mit Einheimischen\, Yoga\, dem Genuss der landestypischen Küche bis hin zur weltschönsten Zugfahrt nach Ella fühen kann. 10 Tage Rückzug aus dem stressigen Alltag in eine andere Welt. Was bist Du ohne alles? Dieser Frage begegnest Du bei dieser atemberaubenden Auszeit. Maik wird Dir mit seiner 20-jährigen Erfahrung als Trainer und Mediator neue Perspektiven und Möglichkeiten für Dein Leben aufzeigen. Danach wirst Du Dein Sein noch einmal anders\, auf einem neuen Niveau definieren. \n\n\n\nDu darfst einen Rundum-Service erwarten. Rechtzeitig vor Beginn der Reise wird es einen Informationsabend geben\, bei dem Du alle wichtigen Details erfahren wirst\, die zur Vorbereitung der Retreat-Reise wichtig sind.  \n\n\n\n\n      Sie sehen gerade einen Platzhalterinhalt von YouTube. Um auf den eigentlichen Inhalt zuzugreifen\, klicken Sie auf die Schaltfläche unten. Bitte beachten Sie\, dass dabei Daten an Drittanbieter weitergegeben werden.  Mehr Informationen   Inhalt entsperren Erforderlichen Service akzeptieren und Inhalte entsperren   \n\n\n\n\nWeitere Details\n\n\n\n\n\n\n\nSofern Du Rückfragen hast\, kontaktiere uns gern unter 0361 21697005. \n\n\n\n\n\n\n\n\n\n\n\n\nDatum und Zeit\n\n\n\n\n\n\n\n\n\n\n\n\n\nDetails\n\n\n\n\n\n\n\nJetzt beraten lassen!\n\n\n\n\n\nLehrtrainer\n\n\n\n\n\n\n\nName: Maik LärzE-Mail: info@maik-laerz.deMobil: 0172 7960974 \n\n\n\n\n\n\nVeranstaltungsort\n\n\n\n\n\n\n\nAluthgama\, Sri Lanka \n\n\n\n\n\n\n\n\n\n\nNächste Veranstaltungen\n\n\n\n\n\n\n\n\n	\n		\n\n			\n			\n\n							\n					\n						Anstehende Veranstaltungen					\n				\n			\n			\n				\n											\n\n	\n	\n		\n			Apr.		\n		\n			22		\n	\n\n\n	\n		\n			\n\n				\n					\n		\n		22. April  16:00 – 25. April  13:00	\n	\n					\n	\n		NLC Practitioner Modul 4	\n\n				\n\n				\n			\n		\n	\n\n\n											\n\n	\n	\n		\n			Apr.		\n		\n			29		\n	\n\n\n	\n		\n			\n\n				\n					\n		\n		18:00 – 22:00	\n	\n					\n	\n		Aufstellungsabend	\n\n				\n\n				\n			\n		\n	\n\n\n											\n\n	\n	\n		\n			Mai		\n		\n			6		\n	\n\n\n	\n		\n			\n\n				\n					\n	\n	\n	\n\n\n\n	Hervorgehoben\n	\n		6. Mai  10:00 – 9. Mai  13:00	\n	\n					\n	\n		wingwave Coach	\n\n				\n\n				\n			\n		\n	\n\n\n											\n\n	\n	\n		\n			Mai		\n		\n			20		\n	\n\n\n	\n		\n			\n\n				\n					\n		\n		18:00 – 22:00	\n	\n					\n	\n		Aufstellungsabend	\n\n				\n\n				\n			\n		\n	\n\n\n											\n\n	\n	\n		\n			Mai		\n		\n			21		\n	\n\n\n	\n		\n			\n\n				\n					\n	\n	\n	\n\n\n\n	Hervorgehoben\n	\n		21. Mai  11:00 – 23. Mai  13:00	\n	\n					\n	\n		Hypnose Coach	\n\n				\n\n				\n			\n		\n	\n\n\n									\n\n				\n	\n		Kalender anzeigen
URL:https://maik-laerz.de/event/6723/
CATEGORIES:Sri Lanka
ATTACH;FMTTYPE=image/jpeg:https://maik-laerz.de/wp-content/uploads/2025/02/k-k-cTNrcabw-e1739466224197.jpeg
END:VEVENT
BEGIN:VEVENT
DTSTART;TZID=Europe/Berlin:20260121T180000
DTEND;TZID=Europe/Berlin:20260121T220000
DTSTAMP:20260423T130255
CREATED:20251214T104613Z
LAST-MODIFIED:20251214T111634Z
UID:7951-1769018400-1769032800@maik-laerz.de
SUMMARY:Aufstellungsabend
DESCRIPTION:Aufstellungsabend\n\n\n\n\n\nÜbersicht Familien- und Systemaufstellung\n\n\n\n\n\n\n\n„Die reinste Form des Wahnsinns ist es\, alles beim Alten zu lassen und zu hoffen\, dass sich etwas ändert.“ (Albert Einstein) \n\n\n\nWir Menschen leben und agieren in Systemen\, sei es an der Arbeit\, in der Freizeit\, oder in unseren Familien. Die komplexen Vernetzungen und Gesetzmäßigkeiten darin lassen sich nur schwer im Alltag begreifen und so passiert es schnell\, dass wir ratlos sind und uns unseren Problemen gegenüber ausgeliefert fühlen. So wollen wir als „Maik Lärz Akademie“ durch unsere regelmäßige Aufstellungsarbeit (incl. persönlichen Erfahrungsaustausch) Orientierung und Schutzräume bieten\, durch die jeder Teilnehmer bei seiner Problembewältigung professionell angeleitet und unterstützt wird. Wir bedienen uns dabei der neuesten Coaching- und Therapiekonzepte die derzeit auf dem Ausbildungsmarkt zu finden sind\, welche ebenso bei uns in der Akademie gelehrt und angewandt werden. Dabei handelt es sich unter anderem um therapeutisch etablierte Methoden wie Wingwave\, emotionSync\, EMDR+ und natürlich das systemische Coaching\, bzw. die Aufstellungsarbeit. \n\n\n\nIhre Vorteile bei diesem Workshop: \n\n\n\n\nmax. Preisvorteil 25\,00 €\n\n\n\nSnacks und Getränke inklusive\n\n\n\nGrundkenntnisse in systemischen Arbeiten mit Familien und anderen Systemen\n\n\n\npersönliche Themen können aufgestellt und lösungsorientiert bearbeitet werden\n\n\n\nprofessionell ausgestattete Atmosphäre im großen Akademie-Saal\n\n\n\n\n\n\n\n\nSofern Du Rückfragen hast\, kontaktiere uns gern unter 0361 21697005. \n\n\n\n\n\n\n\n\n\n\n\n\nDatum und Zeit\n\n\n\n\n\n\n\n\n\n\n\n\n\nDetails\n\n\n\n\n\n\n\nPreis: 25\,00 € \n\n\n\n\n\nLehrtrainer\n\n\n\n\n\n\n\nName: Maik LärzE-Mail: info@maik-laerz.deMobil: 0172 7960974 \n\n\n\n\n\njetzt anmelden!\n\n\n\n\n\n\nVeranstaltungsort\n\n\n\n\n\n\n\nMaik Lärz AkademieVollbrachtstraße 1799086 Erfurt \n\n\n\n\n\n\n\n\n\n\nNächste Veranstaltungen\n\n\n\n\n\n\n\n\n	\n		\n\n			\n			\n\n							\n					\n						Anstehende Veranstaltungen					\n				\n			\n			\n				\n											\n\n	\n	\n		\n			Apr.		\n		\n			22		\n	\n\n\n	\n		\n			\n\n				\n					\n		\n		22. April  16:00 – 25. April  13:00	\n	\n					\n	\n		NLC Practitioner Modul 4	\n\n				\n\n				\n			\n		\n	\n\n\n											\n\n	\n	\n		\n			Apr.		\n		\n			29		\n	\n\n\n	\n		\n			\n\n				\n					\n		\n		18:00 – 22:00	\n	\n					\n	\n		Aufstellungsabend	\n\n				\n\n				\n			\n		\n	\n\n\n											\n\n	\n	\n		\n			Mai		\n		\n			6		\n	\n\n\n	\n		\n			\n\n				\n					\n	\n	\n	\n\n\n\n	Hervorgehoben\n	\n		6. Mai  10:00 – 9. Mai  13:00	\n	\n					\n	\n		wingwave Coach	\n\n				\n\n				\n			\n		\n	\n\n\n											\n\n	\n	\n		\n			Mai		\n		\n			20		\n	\n\n\n	\n		\n			\n\n				\n					\n		\n		18:00 – 22:00	\n	\n					\n	\n		Aufstellungsabend	\n\n				\n\n				\n			\n		\n	\n\n\n											\n\n	\n	\n		\n			Mai		\n		\n			21		\n	\n\n\n	\n		\n			\n\n				\n					\n	\n	\n	\n\n\n\n	Hervorgehoben\n	\n		21. Mai  11:00 – 23. Mai  13:00	\n	\n					\n	\n		Hypnose Coach	\n\n				\n\n				\n			\n		\n	\n\n\n									\n\n				\n	\n		Kalender anzeigen
URL:https://maik-laerz.de/event/aufstellungsabend/
CATEGORIES:Aufstellungsabend,Workshops
ATTACH;FMTTYPE=image/jpeg:https://maik-laerz.de/wp-content/uploads/2022/06/maik-laerz-akademieDSC_3469.jpg
END:VEVENT
BEGIN:VEVENT
DTSTART;TZID=Europe/Berlin:20260128T160000
DTEND;TZID=Europe/Berlin:20260131T130000
DTSTAMP:20260423T130255
CREATED:20250224T203816Z
LAST-MODIFIED:20260114T132513Z
UID:7408-1769616000-1769864400@maik-laerz.de
SUMMARY:NLC Practitioner
DESCRIPTION:NLC®-Practitioner \n\n\n\n\n\nÜbersicht Ausbildung zum NLC®-Practitioner\n\n\n\n\n\n\n\nKommuniziere wie ein Profi als NLC®-Practitioner!\n\n\n\nDie 16-tägige Ausbildung zum NLC®-Practitioner bzw. Coach für Kommunikation und Beratung richtet sich an alle Einsteiger und Interessierte im Bereich Kommunikation und Persönlichkeitsentwicklung. Dabei lernst Du in vier Module (jeweils Mittwoch bis Samstag) mit Hilfe wichtiger Grundelemente und spezieller Schlüsselkompetenzen wertschätzend und nachhaltig zu kommunizieren. In kleinen Übungsgruppen lernst Du intensiv Deinen zwischenmenschlichen Umgang selbstbewusst zu gestalten und ganz nebenbei noch Deinem Umfeld hilfreich sein zu können. Mache mit uns den ersten Schritt in Richtung selbstbestimmte Kommunikation! \n\n\n\nNLC 1: Einführung / Basistechniken – Teil A I Teil BRapport\, Wahrnehmung\, Repräsentationssysteme und Zugangshinweise\, Moment of Excellence\, Zieldefinition und Zielmodell\, Angleichen und Führen\, Integration wingwave®: Arbeiten mit der wingwave®-CDMeta-Modell\, Physiologie\, Stuck State / Separator State\, Ankern\, Ökologie\, Veränderung der persönlichen Geschichte\, Integration wingwave®: kalibrieren mit dem O-Ringtest. Wie das Wirken wirkt. \n\n\n\nSeminarzeitenMi. 16:00 – 20:00 Uhr | Do. – Fr. 09:00 – 18:00 Uhr | Sa 09:00 – 13:00 Uhr \n\n\n\nDie Ausbildung zum NLC Practitioner im Video \n\n\n\n\n      Sie sehen gerade einen Platzhalterinhalt von YouTube. Um auf den eigentlichen Inhalt zuzugreifen\, klicken Sie auf die Schaltfläche unten. Bitte beachten Sie\, dass dabei Daten an Drittanbieter weitergegeben werden.  Mehr Informationen   Inhalt entsperren Erforderlichen Service akzeptieren und Inhalte entsperren   \n\n\n\n\nMehr Erfahren\n\n\n\n\n\n\n\nSofern Du Rückfragen hast\, kontaktiere uns gern unter 0361 21697005. \n\n\n\n\n\n\n\n\n\n\n\n\nDatum und Zeit\n\n\n\n\n\n\n\n\n\n\n\n\n\nDetails\n\n\n\n\n\n\n\nPreis: 1970\,00 € \n\n\n\n(Da es sich bei der Maik Lärz Akademie um ein anerkanntes Bildungsunternehmen handelt\, entfällt hierbei die MwSt.) \n\n\n\n\n\nLehrtrainer\n\n\n\n\n\n\n\nName: Maik LärzE-Mail: info@maik-laerz.deMobil: 0172 7960974 \n\n\n\n\n\njetzt anmelden!\n\n\n\n\n\n\nVeranstaltungsort\n\n\n\n\n\n\n\nMaik Lärz AkademieVollbrachtstraße 1799086 Erfurt \n\n\n\n\n\n\n\n\n\n\nNächste Veranstaltungen\n\n\n\n\n\n\n\n\n	\n		\n\n			\n			\n\n							\n					\n						Anstehende Veranstaltungen					\n				\n			\n			\n				\n											\n\n	\n	\n		\n			Apr.		\n		\n			22		\n	\n\n\n	\n		\n			\n\n				\n					\n		\n		22. April  16:00 – 25. April  13:00	\n	\n					\n	\n		NLC Practitioner Modul 4	\n\n				\n\n				\n			\n		\n	\n\n\n											\n\n	\n	\n		\n			Apr.		\n		\n			29		\n	\n\n\n	\n		\n			\n\n				\n					\n		\n		18:00 – 22:00	\n	\n					\n	\n		Aufstellungsabend	\n\n				\n\n				\n			\n		\n	\n\n\n											\n\n	\n	\n		\n			Mai		\n		\n			6		\n	\n\n\n	\n		\n			\n\n				\n					\n	\n	\n	\n\n\n\n	Hervorgehoben\n	\n		6. Mai  10:00 – 9. Mai  13:00	\n	\n					\n	\n		wingwave Coach	\n\n				\n\n				\n			\n		\n	\n\n\n											\n\n	\n	\n		\n			Mai		\n		\n			20		\n	\n\n\n	\n		\n			\n\n				\n					\n		\n		18:00 – 22:00	\n	\n					\n	\n		Aufstellungsabend	\n\n				\n\n				\n			\n		\n	\n\n\n											\n\n	\n	\n		\n			Mai		\n		\n			21		\n	\n\n\n	\n		\n			\n\n				\n					\n	\n	\n	\n\n\n\n	Hervorgehoben\n	\n		21. Mai  11:00 – 23. Mai  13:00	\n	\n					\n	\n		Hypnose Coach	\n\n				\n\n				\n			\n		\n	\n\n\n									\n\n				\n	\n		Kalender anzeigen
URL:https://maik-laerz.de/event/nlc-practitioner-modul-1/
CATEGORIES:Ausbildung,NLC Practitioner
ATTACH;FMTTYPE=image/jpeg:https://maik-laerz.de/wp-content/uploads/2022/09/photo-1474314881477-04c4aac40a0e.jpg
END:VEVENT
END:VCALENDAR