BEGIN:VCALENDAR
VERSION:2.0
PRODID:-//Maik Lärz Akademie Erfurt - ECPv6.15.20//NONSGML v1.0//EN
CALSCALE:GREGORIAN
METHOD:PUBLISH
X-ORIGINAL-URL:https://maik-laerz.de
X-WR-CALDESC:Veranstaltungen für Maik Lärz Akademie Erfurt
REFRESH-INTERVAL;VALUE=DURATION:PT1H
X-Robots-Tag:noindex
X-PUBLISHED-TTL:PT1H
BEGIN:VTIMEZONE
TZID:Europe/Berlin
BEGIN:DAYLIGHT
TZOFFSETFROM:+0100
TZOFFSETTO:+0200
TZNAME:CEST
DTSTART:20260329T010000
END:DAYLIGHT
BEGIN:STANDARD
TZOFFSETFROM:+0200
TZOFFSETTO:+0100
TZNAME:CET
DTSTART:20261025T010000
END:STANDARD
BEGIN:DAYLIGHT
TZOFFSETFROM:+0100
TZOFFSETTO:+0200
TZNAME:CEST
DTSTART:20270328T010000
END:DAYLIGHT
BEGIN:STANDARD
TZOFFSETFROM:+0200
TZOFFSETTO:+0100
TZNAME:CET
DTSTART:20271031T010000
END:STANDARD
BEGIN:DAYLIGHT
TZOFFSETFROM:+0100
TZOFFSETTO:+0200
TZNAME:CEST
DTSTART:20280326T010000
END:DAYLIGHT
BEGIN:STANDARD
TZOFFSETFROM:+0200
TZOFFSETTO:+0100
TZNAME:CET
DTSTART:20281029T010000
END:STANDARD
END:VTIMEZONE
BEGIN:VEVENT
DTSTART;TZID=Europe/Berlin:20270610T110000
DTEND;TZID=Europe/Berlin:20270612T150000
DTSTAMP:20260423T102359
CREATED:20250225T002616Z
LAST-MODIFIED:20251121T104458Z
UID:7529-1812625200-1812812400@maik-laerz.de
SUMMARY:Hypnose Coach
DESCRIPTION:Hypnose-Coach\n\n\n\n\n\nÜbersicht Ausbildung Hynpnose-Coach\n\n\n\n\n\n\n\nDas dreitägige Training zum Hypnosecoach richtet sich an Trainer\, Therapeuten\, Berater und Coaches. Es ist ein zusätzliches Modul zu Ihrer abgeschlossenen Ausbildung in Kommunikationspsychologie\, Psychotherapie oder vergleichbaren Abschlüssen. \n\n\n\nVermittlung von Hypnosetechnicken\, Einleitungstechniken\, Dave Elman Induktion\, Arbeit mit dem inneren Kind\, Six Step Reframing in Trance \n\n\n\nSeminarzeitenDo. 11:00 – 18.00 Uhr | Fr. 09:00 – 18:00 Uhr | Sa. 09:00 – 15:00 Uhr \n\n\n\n\n\n\n\nSofern Du Rückfragen hast\, kontaktiere uns gern unter 0361 21697005. \n\n\n\n\n\n\n\n\n\n\n\n\nDatum und Zeit\n\n\n\n\n\n\n\n\n\n\n\n\n\nDetails\n\n\n\n\n\n\n\nPreis: 1560\,00 €(Da es sich bei der Maik Lärz Akademie um ein anerkanntes Bildungsunternehmen handelt\, entfällt hierbei die MwSt.) \n\n\n\n\n\nLehrtrainer\n\n\n\n\n\n\n\nName: Maik LärzE-Mail: info@maik-laerz.deMobil: 0172 7960974 \n\n\n\n\n\njetzt anmelden!\n\n\n\n\n\n\nVeranstaltungsort\n\n\n\n\n\n\n\nMaik Lärz AkademieVollbrachtstraße 1799086 Erfurt \n\n\n\n\n\n\n\n\n\n\nNächste Veranstaltungen\n\n\n\n\n\n\n\n\n	\n		\n\n			\n			\n\n							\n					\n						Anstehende Veranstaltungen					\n				\n			\n			\n				\n											\n\n	\n	\n		\n			Sep.		\n		\n			23		\n	\n\n\n	\n		\n			\n\n				\n					\n		\n		18:00 – 22:00	\n	\n					\n	\n		Aufstellungsabend	\n\n				\n\n				\n			\n		\n	\n\n\n											\n\n	\n	\n		\n			Okt.		\n		\n			28		\n	\n\n\n	\n		\n			\n\n				\n					\n	\n	\n	\n\n\n\n	Hervorgehoben\n	\n		28. Oktober  11:00 – 31. Oktober  13:00	\n	\n					\n	\n		Systemischer Coach Berater Modul 1	\n\n				\n\n				\n			\n		\n	\n\n\n											\n\n	\n	\n		\n			Okt.		\n		\n			28		\n	\n\n\n	\n		\n			\n\n				\n					\n		\n		18:00 – 22:00	\n	\n					\n	\n		Aufstellungsabend	\n\n				\n\n				\n			\n		\n	\n\n\n											\n\n	\n	\n		\n			Nov.		\n		\n			6		\n	\n\n\n	\n		\n			\n\n				\n					\n	\n	\n	\n\n\n\n	Hervorgehoben\n	\n		6. November  10:00 – 8. November  13:00	\n	\n					\n	\n		Gewaltfreie Kommunikation	\n\n				\n\n				\n			\n		\n	\n\n\n											\n\n	\n	\n		\n			Nov.		\n		\n			25		\n	\n\n\n	\n		\n			\n\n				\n					\n	\n	\n	\n\n\n\n	Hervorgehoben\n	\n		25. November  11:00 – 28. November  13:00	\n	\n					\n	\n		Systemischer Coach Berater Modul 2	\n\n				\n\n				\n			\n		\n	\n\n\n									\n\n				\n	\n		Kalender anzeigen
URL:https://maik-laerz.de/event/hypnose-coach-2/
CATEGORIES:Ausbildung,Hypnose Coach
ATTACH;FMTTYPE=image/jpeg:https://maik-laerz.de/wp-content/uploads/2024/01/maik-laerz-akademie-hypnose.jpg
END:VEVENT
BEGIN:VEVENT
DTSTART;TZID=Europe/Berlin:20270625T100000
DTEND;TZID=Europe/Berlin:20270626T150000
DTSTAMP:20260423T102359
CREATED:20250225T002937Z
LAST-MODIFIED:20250225T002951Z
UID:7531-1813917600-1814022000@maik-laerz.de
SUMMARY:EmotionSync® EMDR+ Coach
DESCRIPTION:EmotionSync® EMDR+ Coach\n\n\n\n\n\nÜbersicht Ausbildung zum EmotionSync® EMDR Plus Coach\n\n\n\n\n\n\n\nUltra-Kurzzeittechnik zur Auflösung von Blockaden\, Ängsten und mehr\n\n\n\nDas zweitägige Training in emotionSync-Coaching richtet sich an Trainer\, Therapeuten\, Berater und Coaches. Es ist ein zusätzliches Modul zu Ihrer abgeschlossenen Ausbildung in NLP\, Kommunikationspsychologie\, Psychotherapie oder vergleichbaren Abschlüssen. \n\n\n\nEnergie-Techniken wie EmotionSync sind momentan die effizientesten Methoden auf dem Markt\, welche mittels Synchronisation des Gehirns nachhaltige Veränderungen von destruktivem Verhalten und Problemen\, in teilweise nur wenigen Minuten ermöglichen. Ängste und Verhaltensmuster sind als elektrische Felder in unserem Gehirn gespeichert. Diese Felder können durch die körpereigene Elektrizität und die Gehirnströme nachhaltig und schnell verändert werden. Anker-Beschleunigungstechniken greifen hier ganz besonders. \n\n\n\nEmotionSync hilft bei der Auflösung und Behandlung von: \n\n\n\n– Ängsten / privat oder im Business– Phobien / Vermeidungsstrategien– Übertriebene Handlungen– Burnout / Überlastungen/ Depressionen– Allergien / Neurodermitis– Psychosomatik / Gehirn und Energie– lebensbehindernden Glaubenssätzen– Werte-Management / Change-Prozesse \n\n\n\nDas ist die ideale Ergänzung für alle\, die Freude an kurzfristiger und dennoch nachhaltiger Entwicklungsarbeit mit Menschen haben\, was für Sie und Ihre Kunden ein effizienteres und zufriedenstellenderes Arbeiten bedeutet. \n\n\n\nSeminarzeitenFr.  10:00 – 18:00 Uhr | Sa. 09:00 – 15:00 Uhr \n\n\n\nMehr Erfahren\n\n\n\n\n\n\n\nSofern Du Rückfragen hast\, kontaktiere uns gern unter 0361 21697005. \n\n\n\n\n\n\n\n\n\n\n\n\nDatum und Zeit\n\n\n\n\n\n\n\n\n\n\n\n\n\nDetails\n\n\n\n\n\n\n\nPreis: 1800\,00 € \n\n\n\n(Da es sich bei der Maik Lärz Akademie um ein anerkanntes Bildungsunternehmen handelt\, entfällt hierbei die MwSt.) \n\n\n\n\n\nLehrtrainer\n\n\n\n\n\n\n\nName: Maik LärzE-Mail: info@maik-laerz.deMobil: 0172 7960974 \n\n\n\n\n\njetzt anmelden!\n\n\n\n\n\n\nVeranstaltungsort\n\n\n\n\n\n\n\nMaik Lärz AkademieVollbrachtstraße 1799086 Erfurt \n\n\n\n\n\n\n\n\n\n\nNächste Veranstaltungen\n\n\n\n\n\n\n\n\n	\n		\n\n			\n			\n\n							\n					\n						Anstehende Veranstaltungen					\n				\n			\n			\n				\n											\n\n	\n	\n		\n			Sep.		\n		\n			23		\n	\n\n\n	\n		\n			\n\n				\n					\n		\n		18:00 – 22:00	\n	\n					\n	\n		Aufstellungsabend	\n\n				\n\n				\n			\n		\n	\n\n\n											\n\n	\n	\n		\n			Okt.		\n		\n			28		\n	\n\n\n	\n		\n			\n\n				\n					\n	\n	\n	\n\n\n\n	Hervorgehoben\n	\n		28. Oktober  11:00 – 31. Oktober  13:00	\n	\n					\n	\n		Systemischer Coach Berater Modul 1	\n\n				\n\n				\n			\n		\n	\n\n\n											\n\n	\n	\n		\n			Okt.		\n		\n			28		\n	\n\n\n	\n		\n			\n\n				\n					\n		\n		18:00 – 22:00	\n	\n					\n	\n		Aufstellungsabend	\n\n				\n\n				\n			\n		\n	\n\n\n											\n\n	\n	\n		\n			Nov.		\n		\n			6		\n	\n\n\n	\n		\n			\n\n				\n					\n	\n	\n	\n\n\n\n	Hervorgehoben\n	\n		6. November  10:00 – 8. November  13:00	\n	\n					\n	\n		Gewaltfreie Kommunikation	\n\n				\n\n				\n			\n		\n	\n\n\n											\n\n	\n	\n		\n			Nov.		\n		\n			25		\n	\n\n\n	\n		\n			\n\n				\n					\n	\n	\n	\n\n\n\n	Hervorgehoben\n	\n		25. November  11:00 – 28. November  13:00	\n	\n					\n	\n		Systemischer Coach Berater Modul 2	\n\n				\n\n				\n			\n		\n	\n\n\n									\n\n				\n	\n		Kalender anzeigen
URL:https://maik-laerz.de/event/emotionsync-emdr-coach-2/
CATEGORIES:Ausbildung,Emotion Sync
ATTACH;FMTTYPE=image/jpeg:https://maik-laerz.de/wp-content/uploads/2022/08/brains-gbf6eebffa_1920.jpg
END:VEVENT
BEGIN:VEVENT
DTSTART;TZID=Europe/Berlin:20270709T110000
DTEND;TZID=Europe/Berlin:20270710T150000
DTSTAMP:20260423T102359
CREATED:20250227T221549Z
LAST-MODIFIED:20260113T200843Z
UID:7718-1815130800-1815231600@maik-laerz.de
SUMMARY:Yager Code
DESCRIPTION:YAGER CODE\n\n\n\n\n\nÜbersicht Ausbildung Yager Code\n\n\n\n\n\n\n\nYAGER CODE mit ungeahnten Möglichkeiten!\n\n\n\nDer Yager-Code bietet einen revolutionären Ansatz für psychische und körperliche Probleme und Erkrankungen. Aufgrund der Nutzung der höheren inneren Intelligenz ist das Behandlungsprotokoll des Yager-Codes relativ leicht zu erlernen und auch anzuwenden. Erfolge sind oft in nur wenigen Sitzungen möglich. \n\n\n\nSeminarzeitenDo. 11:00 – 18.00 Uhr | Fr.  10:00 – 15:00 Uhr \n\n\n\nPreis netto: 970\,00 €(Da es sich bei der Maik Lärz Akademie um ein anerkanntes Bildungsunternehmen handelt\, entfällt hierbei die MwSt.) \n\n\n\n\n\n\n\nSofern Du Rückfragen hast\, kontaktiere uns gern unter 0361 21697005. \n\n\n\n\n\n\n\n\n\n\n\n\nDatum und Zeit\n\n\n\n\n\n\n\n\n\n\n\n\n\nDetails\n\n\n\n\n\n\n\nPreis: 1.154\,30 € \n\n\n\n(inklusive 19% MwSt. – Preis netto 970\,00 €) \n\n\n\n\n\nLehrtrainer\n\n\n\n\n\n\n\nName: Maik LärzE-Mail: info@maik-laerz.deMobil: 0172 7960974 \n\n\n\n\n\njetzt anmelden!\n\n\n\n\n\n\nVeranstaltungsort\n\n\n\n\n\n\n\nMaik Lärz AkademieVollbrachtstraße 1799086 Erfurt \n\n\n\n\n\n\n\n\n\n\nNächste Veranstaltungen\n\n\n\n\n\n\n\n\n	\n		\n\n			\n			\n\n							\n					\n						Anstehende Veranstaltungen					\n				\n			\n			\n				\n											\n\n	\n	\n		\n			Sep.		\n		\n			23		\n	\n\n\n	\n		\n			\n\n				\n					\n		\n		18:00 – 22:00	\n	\n					\n	\n		Aufstellungsabend	\n\n				\n\n				\n			\n		\n	\n\n\n											\n\n	\n	\n		\n			Okt.		\n		\n			28		\n	\n\n\n	\n		\n			\n\n				\n					\n	\n	\n	\n\n\n\n	Hervorgehoben\n	\n		28. Oktober  11:00 – 31. Oktober  13:00	\n	\n					\n	\n		Systemischer Coach Berater Modul 1	\n\n				\n\n				\n			\n		\n	\n\n\n											\n\n	\n	\n		\n			Okt.		\n		\n			28		\n	\n\n\n	\n		\n			\n\n				\n					\n		\n		18:00 – 22:00	\n	\n					\n	\n		Aufstellungsabend	\n\n				\n\n				\n			\n		\n	\n\n\n											\n\n	\n	\n		\n			Nov.		\n		\n			6		\n	\n\n\n	\n		\n			\n\n				\n					\n	\n	\n	\n\n\n\n	Hervorgehoben\n	\n		6. November  10:00 – 8. November  13:00	\n	\n					\n	\n		Gewaltfreie Kommunikation	\n\n				\n\n				\n			\n		\n	\n\n\n											\n\n	\n	\n		\n			Nov.		\n		\n			25		\n	\n\n\n	\n		\n			\n\n				\n					\n	\n	\n	\n\n\n\n	Hervorgehoben\n	\n		25. November  11:00 – 28. November  13:00	\n	\n					\n	\n		Systemischer Coach Berater Modul 2	\n\n				\n\n				\n			\n		\n	\n\n\n									\n\n				\n	\n		Kalender anzeigen
URL:https://maik-laerz.de/event/yager-code-3/
CATEGORIES:YAGER Code
END:VEVENT
BEGIN:VEVENT
DTSTART;TZID=Europe/Berlin:20271006T110000
DTEND;TZID=Europe/Berlin:20271009T130000
DTSTAMP:20260423T102359
CREATED:20250225T003730Z
LAST-MODIFIED:20260113T200139Z
UID:7533-1822820400-1823086800@maik-laerz.de
SUMMARY:Systemischer Coach Berater Modul 1
DESCRIPTION:Systemischer Coach Modul 1\n\n\n\n\n\nÜbersicht Ausbildung zum Systemischen Coach/Berater\n\n\n\n\n\n\n\nSysteme und deren Dynamiken erkennen und lösen!\n\n\n\nDas 12-tägige Training (3 Blockwochenenden mit je 4 Tagen) in systemischen Coachings richtet sich nicht ausschließlich an Trainer\, Therapeuten\, Berater und Coaches\, sondern auch an die Menschen\, die ihr eigenes Familiensystem verstehen wollen. Voraussetzung hierfür ist entweder Vorerfahrungen mit systemischer Arbeit aufweisen zu können\, oder die nötige Lebenserfahrung und ein gezieltes Interesse für das Themengebiet mitzubringen. \n\n\n\nWährend der Ausbildung erhalten sie Kenntnisse über Gruppendynamiken\, Familien- und Organisationsaufstellungen\, imaginäre Systemaufstellung\, kinesiologischer Muskeltest und andere Tools. Besonderes Augenmerk legen wir hierbei auf die Erlernung zielgerichteter Schlüsselkompetenzen im ganzheitlichen Umgang mit Klienten\, wie bspw. VAGOK\, Rapport\, gewaltfreie Kommunikation\, neg. Glaubenssatzauflösung\, Ressourcenarbeit und Arbeit am Wertesystem. Lernen Sie mithilfe der systemischen Betrachtungsweise von Problemen und Situationen neue Lösungsansätze und Ressourcen zu generieren\, die für eine erfolgreiche Coaching-Tätigkeit unentbehrlich sind. \n\n\n\nEinsatzmöglichkeiten: Familienprobleme\, Konfliktlösung\, Zielfindung\, Mitarbeiterauswahl\, Auftragsklärung\, Finden von neuen Lösungen in Organisationen\, Herausfinden der eigentlichen Ursache: „Um was geht es wirklich?“\, Hintergrundmotive\, Vorwände\, Prävention\, Burnout usw. \n\n\n\nSeminarzeitenMi 11:00 – 18:00 Uhr | Do – Fr 09:00 – 18:00 Uhr | Sa 09:00 – 13:00 Uhr \n\n\n\nDie Ausbildung zum Systemischen Berater im Video \n\n\n\n\n      Sie sehen gerade einen Platzhalterinhalt von YouTube. Um auf den eigentlichen Inhalt zuzugreifen\, klicken Sie auf die Schaltfläche unten. Bitte beachten Sie\, dass dabei Daten an Drittanbieter weitergegeben werden.  Mehr Informationen   Inhalt entsperren Erforderlichen Service akzeptieren und Inhalte entsperren   \n\n\n\n\nMehr Erfahren\n\n\n\n\n\n\n\nSofern Du Rückfragen hast\, kontaktiere uns gern unter 0361 21697005. \n\n\n\n\n\n\n\n\n\n\n\n\nDatum und Zeit\n\n\n\n\n\n\n\n\n\n\n\n\n\nDetails\n\n\n\n\n\n\n\nPreis: 3.451\,00 € \n\n\n\n(inklusive 19% MwSt. – Preis netto 2.900\,00 €) \n\n\n\n\n\nLehrtrainer\n\n\n\n\n\n\n\nName: Maik LärzE-Mail: info@maik-laerz.deMobil: 0172 7960974 \n\n\n\n\n\njetzt anmelden!\n\n\n\n\n\n\nVeranstaltungsort\n\n\n\n\n\n\n\nMaik Lärz AkademieVollbrachtstraße 1799086 Erfurt \n\n\n\n\n\n\n\n\n\n\nNächste Veranstaltungen\n\n\n\n\n\n\n\n\n	\n		\n\n			\n			\n\n							\n					\n						Anstehende Veranstaltungen					\n				\n			\n			\n				\n											\n\n	\n	\n		\n			Sep.		\n		\n			23		\n	\n\n\n	\n		\n			\n\n				\n					\n		\n		18:00 – 22:00	\n	\n					\n	\n		Aufstellungsabend	\n\n				\n\n				\n			\n		\n	\n\n\n											\n\n	\n	\n		\n			Okt.		\n		\n			28		\n	\n\n\n	\n		\n			\n\n				\n					\n	\n	\n	\n\n\n\n	Hervorgehoben\n	\n		28. Oktober  11:00 – 31. Oktober  13:00	\n	\n					\n	\n		Systemischer Coach Berater Modul 1	\n\n				\n\n				\n			\n		\n	\n\n\n											\n\n	\n	\n		\n			Okt.		\n		\n			28		\n	\n\n\n	\n		\n			\n\n				\n					\n		\n		18:00 – 22:00	\n	\n					\n	\n		Aufstellungsabend	\n\n				\n\n				\n			\n		\n	\n\n\n											\n\n	\n	\n		\n			Nov.		\n		\n			6		\n	\n\n\n	\n		\n			\n\n				\n					\n	\n	\n	\n\n\n\n	Hervorgehoben\n	\n		6. November  10:00 – 8. November  13:00	\n	\n					\n	\n		Gewaltfreie Kommunikation	\n\n				\n\n				\n			\n		\n	\n\n\n											\n\n	\n	\n		\n			Nov.		\n		\n			25		\n	\n\n\n	\n		\n			\n\n				\n					\n	\n	\n	\n\n\n\n	Hervorgehoben\n	\n		25. November  11:00 – 28. November  13:00	\n	\n					\n	\n		Systemischer Coach Berater Modul 2	\n\n				\n\n				\n			\n		\n	\n\n\n									\n\n				\n	\n		Kalender anzeigen
URL:https://maik-laerz.de/event/systemischer-coach-berater-modul-1-2/
CATEGORIES:Ausbildung,Systemischer Berater
ATTACH;FMTTYPE=image/jpeg:https://maik-laerz.de/wp-content/uploads/2022/03/maik-laerz-akademieDSC_1061.jpg
END:VEVENT
BEGIN:VEVENT
DTSTART;TZID=Europe/Berlin:20271103T110000
DTEND;TZID=Europe/Berlin:20271106T130000
DTSTAMP:20260423T102359
CREATED:20250225T004323Z
LAST-MODIFIED:20260113T200230Z
UID:7535-1825239600-1825506000@maik-laerz.de
SUMMARY:Systemischer Coach Berater Modul 2
DESCRIPTION:Systemischer Coach Modul 2\n\n\n\n\n\nÜbersicht Ausbildung zum Systemischen Coach/Berater\n\n\n\n\n\n\n\nSysteme und deren Dynamiken erkennen und lösen!\n\n\n\nDas 12-tägige Training (3 Blockwochenenden mit je 4 Tagen) in systemischen Coachings richtet sich nicht ausschließlich an Trainer\, Therapeuten\, Berater und Coaches\, sondern auch an die Menschen\, die ihr eigenes Familiensystem verstehen wollen. Voraussetzung hierfür ist entweder Vorerfahrungen mit systemischer Arbeit aufweisen zu können\, oder die nötige Lebenserfahrung und ein gezieltes Interesse für das Themengebiet mitzubringen. \n\n\n\nWährend der Ausbildung erhalten sie Kenntnisse über Gruppendynamiken\, Familien- und Organisationsaufstellungen\, imaginäre Systemaufstellung\, kinesiologischer Muskeltest und andere Tools. Besonderes Augenmerk legen wir hierbei auf die Erlernung zielgerichteter Schlüsselkompetenzen im ganzheitlichen Umgang mit Klienten\, wie bspw. VAGOK\, Rapport\, gewaltfreie Kommunikation\, neg. Glaubenssatzauflösung\, Ressourcenarbeit und Arbeit am Wertesystem. Lernen Sie mithilfe der systemischen Betrachtungsweise von Problemen und Situationen neue Lösungsansätze und Ressourcen zu generieren\, die für eine erfolgreiche Coaching-Tätigkeit unentbehrlich sind. \n\n\n\nEinsatzmöglichkeiten: Familienprobleme\, Konfliktlösung\, Zielfindung\, Mitarbeiterauswahl\, Auftragsklärung\, Finden von neuen Lösungen in Organisationen\, Herausfinden der eigentlichen Ursache: „Um was geht es wirklich?“\, Hintergrundmotive\, Vorwände\, Prävention\, Burnout usw. \n\n\n\nSeminarzeitenMi 11:00 – 18:00 Uhr | Do – Fr 09:00 – 18:00 Uhr | Sa 09:00 – 13:00 Uhr \n\n\n\nDie Ausbildung zum Systemischen Berater im Video \n\n\n\n\n      Sie sehen gerade einen Platzhalterinhalt von YouTube. Um auf den eigentlichen Inhalt zuzugreifen\, klicken Sie auf die Schaltfläche unten. Bitte beachten Sie\, dass dabei Daten an Drittanbieter weitergegeben werden.  Mehr Informationen   Inhalt entsperren Erforderlichen Service akzeptieren und Inhalte entsperren   \n\n\n\n\nMehr Erfahren\n\n\n\n\n\n\n\nSofern Du Rückfragen hast\, kontaktiere uns gern unter 0361 21697005. \n\n\n\n\n\n\n\n\n\n\n\n\nDatum und Zeit\n\n\n\n\n\n\n\n\n\n\n\n\n\nDetails\n\n\n\n\n\n\n\nPreis: 3.451\,00 € \n\n\n\n(inklusive 19% MwSt. – Preis netto 2.900\,00 €) \n\n\n\n\n\nLehrtrainer\n\n\n\n\n\n\n\nName: Maik LärzE-Mail: info@maik-laerz.deMobil: 0172 7960974 \n\n\n\n\n\njetzt anmelden!\n\n\n\n\n\n\nVeranstaltungsort\n\n\n\n\n\n\n\nMaik Lärz AkademieVollbrachtstraße 1799086 Erfurt \n\n\n\n\n\n\n\n\n\n\nNächste Veranstaltungen\n\n\n\n\n\n\n\n\n	\n		\n\n			\n			\n\n							\n					\n						Anstehende Veranstaltungen					\n				\n			\n			\n				\n											\n\n	\n	\n		\n			Sep.		\n		\n			23		\n	\n\n\n	\n		\n			\n\n				\n					\n		\n		18:00 – 22:00	\n	\n					\n	\n		Aufstellungsabend	\n\n				\n\n				\n			\n		\n	\n\n\n											\n\n	\n	\n		\n			Okt.		\n		\n			28		\n	\n\n\n	\n		\n			\n\n				\n					\n	\n	\n	\n\n\n\n	Hervorgehoben\n	\n		28. Oktober  11:00 – 31. Oktober  13:00	\n	\n					\n	\n		Systemischer Coach Berater Modul 1	\n\n				\n\n				\n			\n		\n	\n\n\n											\n\n	\n	\n		\n			Okt.		\n		\n			28		\n	\n\n\n	\n		\n			\n\n				\n					\n		\n		18:00 – 22:00	\n	\n					\n	\n		Aufstellungsabend	\n\n				\n\n				\n			\n		\n	\n\n\n											\n\n	\n	\n		\n			Nov.		\n		\n			6		\n	\n\n\n	\n		\n			\n\n				\n					\n	\n	\n	\n\n\n\n	Hervorgehoben\n	\n		6. November  10:00 – 8. November  13:00	\n	\n					\n	\n		Gewaltfreie Kommunikation	\n\n				\n\n				\n			\n		\n	\n\n\n											\n\n	\n	\n		\n			Nov.		\n		\n			25		\n	\n\n\n	\n		\n			\n\n				\n					\n	\n	\n	\n\n\n\n	Hervorgehoben\n	\n		25. November  11:00 – 28. November  13:00	\n	\n					\n	\n		Systemischer Coach Berater Modul 2	\n\n				\n\n				\n			\n		\n	\n\n\n									\n\n				\n	\n		Kalender anzeigen
URL:https://maik-laerz.de/event/systemischer-coach-berater-modul-2-2/
CATEGORIES:Ausbildung,Systemischer Berater
ATTACH;FMTTYPE=image/jpeg:https://maik-laerz.de/wp-content/uploads/2022/03/maik-laerz-akademieDSC_1061.jpg
END:VEVENT
BEGIN:VEVENT
DTSTART;TZID=Europe/Berlin:20271201T110000
DTEND;TZID=Europe/Berlin:20271204T130000
DTSTAMP:20260423T102359
CREATED:20250225T004623Z
LAST-MODIFIED:20260113T200319Z
UID:7537-1827658800-1827925200@maik-laerz.de
SUMMARY:Systemischer Coach Berater Modul 3
DESCRIPTION:Systemischer Coach Modul 3\n\n\n\n\n\nÜbersicht Ausbildung zum Systemischen Coach/Berater\n\n\n\n\n\n\n\nSysteme und deren Dynamiken erkennen und lösen!\n\n\n\nDas 12-tägige Training (3 Module mit je 4 Tagen) in systemischen Coachings richtet sich nicht ausschließlich an Trainer\, Therapeuten\, Berater und Coaches\, sondern auch an die Menschen\, die ihr eigenes Familiensystem verstehen wollen. Voraussetzung hierfür ist entweder Vorerfahrungen mit systemischer Arbeit aufweisen zu können\, oder die nötige Lebenserfahrung und ein gezieltes Interesse für das Themengebiet mitzubringen. \n\n\n\nWährend der Ausbildung erhalten sie Kenntnisse über Gruppendynamiken\, Familien- und Organisationsaufstellungen\, imaginäre Systemaufstellung\, kinesiologischer Muskeltest und andere Tools. Besonderes Augenmerk legen wir hierbei auf die Erlernung zielgerichteter Schlüsselkompetenzen im ganzheitlichen Umgang mit Klienten\, wie bspw. VAGOK\, Rapport\, gewaltfreie Kommunikation\, neg. Glaubenssatzauflösung\, Ressourcenarbeit und Arbeit am Wertesystem. Lernen Sie mithilfe der systemischen Betrachtungsweise von Problemen und Situationen neue Lösungsansätze und Ressourcen zu generieren\, die für eine erfolgreiche Coaching-Tätigkeit unentbehrlich sind. \n\n\n\nEinsatzmöglichkeiten: Familienprobleme\, Konfliktlösung\, Zielfindung\, Mitarbeiterauswahl\, Auftragsklärung\, Finden von neuen Lösungen in Organisationen\, Herausfinden der eigentlichen Ursache: „Um was geht es wirklich?“\, Hintergrundmotive\, Vorwände\, Prävention\, Burnout usw. \n\n\n\nSeminarzeitenMi 11:00 – 18:00 Uhr | Do – Fr 09:00 – 18:00 Uhr | Sa 09:00 – 13:00 Uhr \n\n\n\nDie Ausbildung zum Systemischen Berater im Video \n\n\n\n\n      Sie sehen gerade einen Platzhalterinhalt von YouTube. Um auf den eigentlichen Inhalt zuzugreifen\, klicken Sie auf die Schaltfläche unten. Bitte beachten Sie\, dass dabei Daten an Drittanbieter weitergegeben werden.  Mehr Informationen   Inhalt entsperren Erforderlichen Service akzeptieren und Inhalte entsperren   \n\n\n\n\nMehr Erfahren\n\n\n\n\n\n\n\nSofern Du Rückfragen hast\, kontaktiere uns gern unter 0361 21697005. \n\n\n\n\n\n\n\n\n\n\n\n\nDatum und Zeit\n\n\n\n\n\n\n\n\n\n\n\n\n\nDetails\n\n\n\n\n\n\n\nPreis: 3.451\,00 € \n\n\n\n(inklusive 19% MwSt. – Preis netto 2.900\,00 €) \n\n\n\n\n\nLehrtrainer\n\n\n\n\n\n\n\nName: Maik LärzE-Mail: info@maik-laerz.deMobil: 0172 7960974 \n\n\n\n\n\njetzt anmelden!\n\n\n\n\n\n\nVeranstaltungsort\n\n\n\n\n\n\n\nMaik Lärz AkademieVollbrachtstraße 1799086 Erfurt \n\n\n\n\n\n\n\n\n\n\nNächste Veranstaltungen\n\n\n\n\n\n\n\n\n	\n		\n\n			\n			\n\n							\n					\n						Anstehende Veranstaltungen					\n				\n			\n			\n				\n											\n\n	\n	\n		\n			Sep.		\n		\n			23		\n	\n\n\n	\n		\n			\n\n				\n					\n		\n		18:00 – 22:00	\n	\n					\n	\n		Aufstellungsabend	\n\n				\n\n				\n			\n		\n	\n\n\n											\n\n	\n	\n		\n			Okt.		\n		\n			28		\n	\n\n\n	\n		\n			\n\n				\n					\n	\n	\n	\n\n\n\n	Hervorgehoben\n	\n		28. Oktober  11:00 – 31. Oktober  13:00	\n	\n					\n	\n		Systemischer Coach Berater Modul 1	\n\n				\n\n				\n			\n		\n	\n\n\n											\n\n	\n	\n		\n			Okt.		\n		\n			28		\n	\n\n\n	\n		\n			\n\n				\n					\n		\n		18:00 – 22:00	\n	\n					\n	\n		Aufstellungsabend	\n\n				\n\n				\n			\n		\n	\n\n\n											\n\n	\n	\n		\n			Nov.		\n		\n			6		\n	\n\n\n	\n		\n			\n\n				\n					\n	\n	\n	\n\n\n\n	Hervorgehoben\n	\n		6. November  10:00 – 8. November  13:00	\n	\n					\n	\n		Gewaltfreie Kommunikation	\n\n				\n\n				\n			\n		\n	\n\n\n											\n\n	\n	\n		\n			Nov.		\n		\n			25		\n	\n\n\n	\n		\n			\n\n				\n					\n	\n	\n	\n\n\n\n	Hervorgehoben\n	\n		25. November  11:00 – 28. November  13:00	\n	\n					\n	\n		Systemischer Coach Berater Modul 2	\n\n				\n\n				\n			\n		\n	\n\n\n									\n\n				\n	\n		Kalender anzeigen
URL:https://maik-laerz.de/event/systemischer-coach-berater-modul-3-3/
CATEGORIES:Ausbildung,Systemischer Berater
ATTACH;FMTTYPE=image/jpeg:https://maik-laerz.de/wp-content/uploads/2022/03/maik-laerz-akademieDSC_1061.jpg
END:VEVENT
END:VCALENDAR