BEGIN:VCALENDAR
VERSION:2.0
PRODID:-//Maik Lärz Akademie Erfurt - ECPv6.15.20//NONSGML v1.0//EN
CALSCALE:GREGORIAN
METHOD:PUBLISH
X-WR-CALNAME:Maik Lärz Akademie Erfurt
X-ORIGINAL-URL:https://maik-laerz.de
X-WR-CALDESC:Veranstaltungen für Maik Lärz Akademie Erfurt
REFRESH-INTERVAL;VALUE=DURATION:PT1H
X-Robots-Tag:noindex
X-PUBLISHED-TTL:PT1H
BEGIN:VTIMEZONE
TZID:Europe/Berlin
BEGIN:DAYLIGHT
TZOFFSETFROM:+0100
TZOFFSETTO:+0200
TZNAME:CEST
DTSTART:20260329T010000
END:DAYLIGHT
BEGIN:STANDARD
TZOFFSETFROM:+0200
TZOFFSETTO:+0100
TZNAME:CET
DTSTART:20261025T010000
END:STANDARD
BEGIN:DAYLIGHT
TZOFFSETFROM:+0100
TZOFFSETTO:+0200
TZNAME:CEST
DTSTART:20270328T010000
END:DAYLIGHT
BEGIN:STANDARD
TZOFFSETFROM:+0200
TZOFFSETTO:+0100
TZNAME:CET
DTSTART:20271031T010000
END:STANDARD
BEGIN:DAYLIGHT
TZOFFSETFROM:+0100
TZOFFSETTO:+0200
TZNAME:CEST
DTSTART:20280326T010000
END:DAYLIGHT
BEGIN:STANDARD
TZOFFSETFROM:+0200
TZOFFSETTO:+0100
TZNAME:CET
DTSTART:20281029T010000
END:STANDARD
END:VTIMEZONE
BEGIN:VEVENT
DTSTART;TZID=Europe/Berlin:20270103T000000
DTEND;TZID=Europe/Berlin:20270113T235959
DTSTAMP:20260425T124848
CREATED:20250224T234637Z
LAST-MODIFIED:20260126T095256Z
UID:7502-1798934400-1799884799@maik-laerz.de
SUMMARY:Retreat Sri Lanka 1
DESCRIPTION:Retreat Sri Lanka 1\n\n\n\n\n\nÜbersicht Retreat Reise Sri Lanka\n\n\n\n\n\n\n\n10 TAGE IN EINE ANDERE WELT TAUCHEN \n\n\n\nMach Dich startklar für die Reise zu Deinem Sein – einer Begegnung mit Dir selbst! Tauche ein in das wunderschöne Sri Lanka im indischen Ozean. Lerne die Menschen und die Kultur kennen und lass Dich inspirieren von der wunderschönen Natur. Erlebe eine Reise mit Maik Lärz\, die Dich von der Meditation mit Einheimischen\, Yoga\, dem Genuss der landestypischen Küche bis hin zur weltschönsten Zugfahrt nach Ella fühen kann. 10 Tage Rückzug aus dem stressigen Alltag in eine andere Welt. Was bist Du ohne alles? Dieser Frage begegnest Du bei dieser atemberaubenden Auszeit. Maik wird Dir mit seiner 20-jährigen Erfahrung als Trainer und Mediator neue Perspektiven und Möglichkeiten für Dein Leben aufzeigen. Danach wirst Du Dein Sein noch einmal anders\, auf einem neuen Niveau definieren. \n\n\n\nDu darfst einen Rundum-Service erwarten. Rechtzeitig vor Beginn der Reise wird es einen Informationsabend geben\, bei dem Du alle wichtigen Details erfahren wirst\, die zur Vorbereitung der Retreat-Reise wichtig sind.  \n\n\n\n\n      Sie sehen gerade einen Platzhalterinhalt von YouTube. Um auf den eigentlichen Inhalt zuzugreifen\, klicken Sie auf die Schaltfläche unten. Bitte beachten Sie\, dass dabei Daten an Drittanbieter weitergegeben werden.  Mehr Informationen   Inhalt entsperren Erforderlichen Service akzeptieren und Inhalte entsperren   \n\n\n\n\nWeitere Details\n\n\n\n\n\n\n\nSofern Du Rückfragen hast\, kontaktiere uns gern unter 0361 21697005. \n\n\n\n\n\n\n\n\n\n\n\n\nDatum und Zeit\n\n\n\n\n\n\n\n\n\n\n\n\n\nDetails\n\n\n\n\n\n\n\njetzt ANMELDEN!\n\n\n\n\n\nLehrtrainer\n\n\n\n\n\n\n\nName: Maik LärzE-Mail: info@maik-laerz.deMobil: 0172 7960974 \n\n\n\n\n\n\n\n\n\n\nVeranstaltungsort\n\n\n\n\n\n\n\nAluthgama\, Sri Lanka \n\n\n\n\n\n\n\n\n\n\nNächste Veranstaltungen\n\n\n\n\n\n\n\n\n	\n		\n\n			\n			\n\n							\n					\n						Anstehende Veranstaltungen					\n				\n			\n			\n				\n											\n\n	\n	\n		\n			Apr.		\n		\n			22		\n	\n\n\n	\n		\n			\n\n				\n					\n		\n		22. April  16:00 – 25. April  13:00	\n	\n					\n	\n		NLC Practitioner Modul 4	\n\n				\n\n				\n			\n		\n	\n\n\n											\n\n	\n	\n		\n			Apr.		\n		\n			29		\n	\n\n\n	\n		\n			\n\n				\n					\n		\n		18:00 – 22:00	\n	\n					\n	\n		Aufstellungsabend	\n\n				\n\n				\n			\n		\n	\n\n\n											\n\n	\n	\n		\n			Mai		\n		\n			6		\n	\n\n\n	\n		\n			\n\n				\n					\n	\n	\n	\n\n\n\n	Hervorgehoben\n	\n		6. Mai  10:00 – 9. Mai  13:00	\n	\n					\n	\n		wingwave Coach	\n\n				\n\n				\n			\n		\n	\n\n\n											\n\n	\n	\n		\n			Mai		\n		\n			20		\n	\n\n\n	\n		\n			\n\n				\n					\n		\n		18:00 – 22:00	\n	\n					\n	\n		Aufstellungsabend	\n\n				\n\n				\n			\n		\n	\n\n\n											\n\n	\n	\n		\n			Mai		\n		\n			21		\n	\n\n\n	\n		\n			\n\n				\n					\n	\n	\n	\n\n\n\n	Hervorgehoben\n	\n		21. Mai  11:00 – 23. Mai  13:00	\n	\n					\n	\n		Hypnose Coach	\n\n				\n\n				\n			\n		\n	\n\n\n									\n\n				\n	\n		Kalender anzeigen
URL:https://maik-laerz.de/event/sri-lanka-1/
CATEGORIES:Sri Lanka
ATTACH;FMTTYPE=image/jpeg:https://maik-laerz.de/wp-content/uploads/2025/02/k-k-cXA4aqPV.jpeg
END:VEVENT
END:VCALENDAR