BEGIN:VCALENDAR
VERSION:2.0
PRODID:-//Maik Lärz Akademie Erfurt - ECPv6.15.20//NONSGML v1.0//EN
CALSCALE:GREGORIAN
METHOD:PUBLISH
X-ORIGINAL-URL:https://maik-laerz.de
X-WR-CALDESC:Veranstaltungen für Maik Lärz Akademie Erfurt
REFRESH-INTERVAL;VALUE=DURATION:PT1H
X-Robots-Tag:noindex
X-PUBLISHED-TTL:PT1H
BEGIN:VTIMEZONE
TZID:Europe/Berlin
BEGIN:DAYLIGHT
TZOFFSETFROM:+0100
TZOFFSETTO:+0200
TZNAME:CEST
DTSTART:20250330T010000
END:DAYLIGHT
BEGIN:STANDARD
TZOFFSETFROM:+0200
TZOFFSETTO:+0100
TZNAME:CET
DTSTART:20251026T010000
END:STANDARD
BEGIN:DAYLIGHT
TZOFFSETFROM:+0100
TZOFFSETTO:+0200
TZNAME:CEST
DTSTART:20260329T010000
END:DAYLIGHT
BEGIN:STANDARD
TZOFFSETFROM:+0200
TZOFFSETTO:+0100
TZNAME:CET
DTSTART:20261025T010000
END:STANDARD
BEGIN:DAYLIGHT
TZOFFSETFROM:+0100
TZOFFSETTO:+0200
TZNAME:CEST
DTSTART:20270328T010000
END:DAYLIGHT
BEGIN:STANDARD
TZOFFSETFROM:+0200
TZOFFSETTO:+0100
TZNAME:CET
DTSTART:20271031T010000
END:STANDARD
END:VTIMEZONE
BEGIN:VEVENT
DTSTART;TZID=Europe/Berlin:20260619T110000
DTEND;TZID=Europe/Berlin:20260620T130000
DTSTAMP:20260423T130959
CREATED:20250224T214331Z
LAST-MODIFIED:20260114T133757Z
UID:7446-1781866800-1781960400@maik-laerz.de
SUMMARY:Yager Code
DESCRIPTION:YAGER CODE\n\n\n\n\n\nÜbersicht Ausbildung\n\n\n\n\n\n\n\nYAGER CODE mit ungeahnten Möglichkeiten!\n\n\n\nDer Yager-Code bietet einen revolutionären Ansatz für psychische und körperliche Probleme und Erkrankungen. Aufgrund der Nutzung der höheren inneren Intelligenz ist das Behandlungsprotokoll des Yager-Codes relativ leicht zu erlernen und auch anzuwenden. Erfolge sind oft in nur wenigen Sitzungen möglich. \n\n\n\nSeminarzeitenFr. 11:00 – 18.00 Uhr | Sa. 10:00 – 13:00 Uhr \n\n\n\nPreis netto: 970\,00 €(Da es sich bei der Maik Lärz Akademie um ein anerkanntes Bildungsunternehmen handelt\, entfällt hierbei die MwSt.) \n\n\n\n\n\n\n\nSofern Du Rückfragen hast\, kontaktiere uns gern unter 0361 21697005. \n\n\n\n\n\n\n\n\n\n\n\n\nDatum und Zeit\n\n\n\n\n\n\n\n\n\n\n\n\n\nDetails\n\n\n\n\n\n\n\nPreis: 1.154\,30 € \n\n\n\n(inklusive 19% MwSt. – Preis netto 970\,00 €) \n\n\n\n\n\nLehrtrainer\n\n\n\n\n\n\n\nName: Maik LärzE-Mail: info@maik-laerz.deMobil: 0172 7960974 \n\n\n\n\n\njetzt anmelden!\n\n\n\n\n\n\nVeranstaltungsort\n\n\n\n\n\n\n\nMaik Lärz AkademieVollbrachtstraße 1799086 Erfurt \n\n\n\n\n\n\n\n\n\n\nNächste Veranstaltungen\n\n\n\n\n\n\n\n\n	\n		\n\n			\n			\n\n							\n					\n						Anstehende Veranstaltungen					\n				\n			\n			\n				\n											\n\n	\n	\n		\n			Apr.		\n		\n			22		\n	\n\n\n	\n		\n			\n\n				\n					\n		\n		22. April  16:00 – 25. April  13:00	\n	\n					\n	\n		NLC Practitioner Modul 4	\n\n				\n\n				\n			\n		\n	\n\n\n											\n\n	\n	\n		\n			Apr.		\n		\n			29		\n	\n\n\n	\n		\n			\n\n				\n					\n		\n		18:00 – 22:00	\n	\n					\n	\n		Aufstellungsabend	\n\n				\n\n				\n			\n		\n	\n\n\n											\n\n	\n	\n		\n			Mai		\n		\n			6		\n	\n\n\n	\n		\n			\n\n				\n					\n	\n	\n	\n\n\n\n	Hervorgehoben\n	\n		6. Mai  10:00 – 9. Mai  13:00	\n	\n					\n	\n		wingwave Coach	\n\n				\n\n				\n			\n		\n	\n\n\n											\n\n	\n	\n		\n			Mai		\n		\n			20		\n	\n\n\n	\n		\n			\n\n				\n					\n		\n		18:00 – 22:00	\n	\n					\n	\n		Aufstellungsabend	\n\n				\n\n				\n			\n		\n	\n\n\n											\n\n	\n	\n		\n			Mai		\n		\n			21		\n	\n\n\n	\n		\n			\n\n				\n					\n	\n	\n	\n\n\n\n	Hervorgehoben\n	\n		21. Mai  11:00 – 23. Mai  13:00	\n	\n					\n	\n		Hypnose Coach	\n\n				\n\n				\n			\n		\n	\n\n\n									\n\n				\n	\n		Kalender anzeigen
URL:https://maik-laerz.de/event/yager-code-2/
CATEGORIES:Ausbildung,YAGER Code
ATTACH;FMTTYPE=image/jpeg:https://maik-laerz.de/wp-content/uploads/2022/08/brains-gbf6eebffa_1920.jpg
END:VEVENT
END:VCALENDAR